Name | Last modified | Size | Description | |
---|---|---|---|---|
Parent Directory | - | |||
buildbin-out.txt | 14-Apr-2022 01:07 | 5.3K | ||
buildbin-summary.dcf | 14-Apr-2022 01:07 | 539 | ||
buildsrc-out.txt | 14-Apr-2022 01:07 | 937 | ||
buildsrc-summary.dcf | 14-Apr-2022 01:07 | 458 | ||
checksrc-out.txt | 14-Apr-2022 01:07 | 12K | ||
checksrc-summary.dcf | 14-Apr-2022 01:07 | 468 | ||
install-out.txt | 14-Apr-2022 01:07 | 6.3K | ||
install-summary.dcf | 14-Apr-2022 01:07 | 641 | ||