Name | Last modified | Size | Description | |
---|---|---|---|---|
Parent Directory | - | |||
buildbin-out.txt | 14-Apr-2022 01:07 | 3.4K | ||
buildbin-summary.dcf | 14-Apr-2022 01:07 | 545 | ||
buildsrc-out.txt | 14-Apr-2022 01:07 | 850 | ||
buildsrc-summary.dcf | 14-Apr-2022 01:07 | 463 | ||
checksrc-out.txt | 14-Apr-2022 01:07 | 6.0K | ||
checksrc-summary.dcf | 14-Apr-2022 01:07 | 466 | ||
install-out.txt | 14-Apr-2022 01:07 | 4.6K | ||
install-summary.dcf | 14-Apr-2022 01:07 | 650 | ||