Name | Last modified | Size | Description | |
---|---|---|---|---|
Parent Directory | - | |||
buildbin-out.txt | 14-Apr-2022 01:07 | 2.2K | ||
buildbin-summary.dcf | 14-Apr-2022 01:07 | 574 | ||
buildsrc-out.txt | 14-Apr-2022 01:07 | 875 | ||
buildsrc-summary.dcf | 14-Apr-2022 01:07 | 484 | ||
checksrc-out.txt | 14-Apr-2022 01:07 | 3.8K | ||
checksrc-summary.dcf | 14-Apr-2022 01:07 | 486 | ||
install-out.txt | 14-Apr-2022 01:07 | 3.0K | ||
install-summary.dcf | 14-Apr-2022 01:07 | 695 | ||