Name | Last modified | Size | Description | |
---|---|---|---|---|
Parent Directory | - | |||
buildbin-out.txt | 14-Apr-2022 01:08 | 1.2K | ||
buildbin-summary.dcf | 14-Apr-2022 01:08 | 566 | ||
buildsrc-out.txt | 14-Apr-2022 01:08 | 840 | ||
buildsrc-summary.dcf | 14-Apr-2022 01:08 | 447 | ||
checksrc-out.txt | 14-Apr-2022 01:08 | 3.2K | ||
checksrc-summary.dcf | 14-Apr-2022 01:08 | 468 | ||
install-out.txt | 14-Apr-2022 01:08 | 1.0K | ||
install-summary.dcf | 14-Apr-2022 01:08 | 281 | ||