Name | Last modified | Size | Description | |
---|---|---|---|---|
Parent Directory | - | |||
buildbin-out.txt | 14-Apr-2022 01:07 | 2.8K | ||
buildbin-summary.dcf | 14-Apr-2022 01:07 | 533 | ||
buildsrc-out.txt | 14-Apr-2022 01:07 | 900 | ||
buildsrc-summary.dcf | 14-Apr-2022 01:07 | 454 | ||
checksrc-out.txt | 14-Apr-2022 01:07 | 5.0K | ||
checksrc-summary.dcf | 14-Apr-2022 01:07 | 464 | ||
install-out.txt | 14-Apr-2022 01:07 | 4.0K | ||
install-summary.dcf | 14-Apr-2022 01:07 | 631 | ||