Name | Last modified | Size | Description | |
---|---|---|---|---|
Parent Directory | - | |||
checksrc-out.txt | 14-Apr-2022 01:06 | 4.1K | ||
install-out.txt | 14-Apr-2022 01:06 | 3.2K | ||
buildbin-out.txt | 14-Apr-2022 01:06 | 2.4K | ||
buildsrc-out.txt | 14-Apr-2022 01:06 | 901 | ||
install-summary.dcf | 14-Apr-2022 01:06 | 671 | ||
buildbin-summary.dcf | 14-Apr-2022 01:06 | 560 | ||
checksrc-summary.dcf | 14-Apr-2022 01:06 | 476 | ||
buildsrc-summary.dcf | 14-Apr-2022 01:06 | 472 | ||