Name | Last modified | Size | Description | |
---|---|---|---|---|
Parent Directory | - | |||
buildsrc-out.txt | 14-Apr-2022 01:05 | 868 | ||
buildsrc-summary.dcf | 14-Apr-2022 01:05 | 407 | ||
checksrc-out.txt | 14-Apr-2022 01:05 | 7.3K | ||
checksrc-summary.dcf | 14-Apr-2022 01:05 | 413 | ||
install-out.txt | 14-Apr-2022 01:05 | 1.2M | ||
install-summary.dcf | 14-Apr-2022 01:05 | 252 | ||