Name | Last modified | Size | Description | |
---|---|---|---|---|
Parent Directory | - | |||
buildbin-out.txt | 14-Apr-2022 01:08 | 4.6M | ||
buildbin-summary.dcf | 14-Apr-2022 01:08 | 508 | ||
buildsrc-out.txt | 14-Apr-2022 01:08 | 878 | ||
buildsrc-summary.dcf | 14-Apr-2022 01:08 | 417 | ||
checksrc-out.txt | 14-Apr-2022 01:08 | 5.3K | ||
checksrc-summary.dcf | 14-Apr-2022 01:08 | 434 | ||
install-out.txt | 14-Apr-2022 01:08 | 4.6M | ||
install-summary.dcf | 14-Apr-2022 01:08 | 262 | ||