Name | Last modified | Size | Description | |
---|---|---|---|---|
Parent Directory | - | |||
buildbin-out.txt | 14-Apr-2022 01:06 | 4.2K | ||
buildbin-summary.dcf | 14-Apr-2022 01:06 | 590 | ||
buildsrc-out.txt | 14-Apr-2022 01:06 | 949 | ||
buildsrc-summary.dcf | 14-Apr-2022 01:06 | 493 | ||
checksrc-out.txt | 14-Apr-2022 01:06 | 4.5K | ||
checksrc-summary.dcf | 14-Apr-2022 01:06 | 496 | ||
install-out.txt | 14-Apr-2022 01:06 | 5.0K | ||
install-summary.dcf | 14-Apr-2022 01:06 | 716 | ||