Name | Last modified | Size | Description | |
---|---|---|---|---|
Parent Directory | - | |||
checksrc-out.txt | 14-Apr-2022 01:08 | 4.1K | ||
buildbin-out.txt | 14-Apr-2022 01:08 | 1.1K | ||
install-out.txt | 14-Apr-2022 01:08 | 1.0K | ||
buildsrc-out.txt | 14-Apr-2022 01:08 | 862 | ||
buildbin-summary.dcf | 14-Apr-2022 01:08 | 503 | ||
checksrc-summary.dcf | 14-Apr-2022 01:08 | 427 | ||
buildsrc-summary.dcf | 14-Apr-2022 01:08 | 414 | ||
install-summary.dcf | 14-Apr-2022 01:08 | 260 | ||