Name | Last modified | Size | Description | |
---|---|---|---|---|
Parent Directory | - | |||
buildbin-out.txt | 14-Apr-2022 01:06 | 9.8K | ||
buildbin-summary.dcf | 14-Apr-2022 01:06 | 561 | ||
buildsrc-out.txt | 14-Apr-2022 01:06 | 956 | ||
buildsrc-summary.dcf | 14-Apr-2022 01:06 | 473 | ||
checksrc-out.txt | 14-Apr-2022 01:06 | 8.2K | ||
checksrc-summary.dcf | 14-Apr-2022 01:06 | 477 | ||
install-out.txt | 14-Apr-2022 01:06 | 10K | ||
install-summary.dcf | 14-Apr-2022 01:06 | 671 | ||