Index of /checkResults/3.14/bioc-LATEST/methylPipe/raw-results/nebbiolo2
Name
Last modified
Size
Description
Parent Directory
-
buildsrc-summary.dcf
14-Apr-2022 01:05
339
buildsrc-out.txt
14-Apr-2022 01:05
4.8K
install-out.txt
14-Apr-2022 01:05
1.9K
install-summary.dcf
14-Apr-2022 01:05
265