Name | Last modified | Size | Description | |
---|---|---|---|---|
Parent Directory | - | |||
buildbin-out.txt | 14-Apr-2022 01:08 | 3.5K | ||
buildbin-summary.dcf | 14-Apr-2022 01:08 | 536 | ||
buildsrc-out.txt | 14-Apr-2022 01:08 | 890 | ||
buildsrc-summary.dcf | 14-Apr-2022 01:08 | 431 | ||
checksrc-out.txt | 14-Apr-2022 01:08 | 3.4K | ||
checksrc-summary.dcf | 14-Apr-2022 01:08 | 448 | ||
install-out.txt | 14-Apr-2022 01:08 | 2.7K | ||
install-summary.dcf | 14-Apr-2022 01:08 | 271 | ||