Name | Last modified | Size | Description | |
---|---|---|---|---|
Parent Directory | - | |||
buildbin-out.txt | 14-Apr-2022 01:06 | 6.0K | ||
buildbin-summary.dcf | 14-Apr-2022 01:06 | 539 | ||
buildsrc-out.txt | 14-Apr-2022 01:06 | 937 | ||
buildsrc-summary.dcf | 14-Apr-2022 01:06 | 458 | ||
checksrc-out.txt | 14-Apr-2022 01:06 | 5.6K | ||
checksrc-summary.dcf | 14-Apr-2022 01:06 | 461 | ||
install-out.txt | 14-Apr-2022 01:06 | 6.6K | ||
install-summary.dcf | 14-Apr-2022 01:06 | 640 | ||