Name | Last modified | Size | Description | |
---|---|---|---|---|
Parent Directory | - | |||
buildbin-out.txt | 14-Apr-2022 01:06 | 6.3K | ||
buildbin-summary.dcf | 14-Apr-2022 01:06 | 521 | ||
buildsrc-out.txt | 14-Apr-2022 01:06 | 816 | ||
buildsrc-summary.dcf | 14-Apr-2022 01:06 | 445 | ||
checksrc-out.txt | 14-Apr-2022 01:06 | 4.3K | ||
checksrc-summary.dcf | 14-Apr-2022 01:06 | 456 | ||
install-out.txt | 14-Apr-2022 01:06 | 7.2K | ||
install-summary.dcf | 14-Apr-2022 01:06 | 614 | ||