Name | Last modified | Size | Description | |
---|---|---|---|---|
Parent Directory | - | |||
buildbin-out.txt | 14-Apr-2022 01:08 | 1.4K | ||
buildbin-summary.dcf | 14-Apr-2022 01:08 | 513 | ||
buildsrc-out.txt | 14-Apr-2022 01:08 | 795 | ||
buildsrc-summary.dcf | 14-Apr-2022 01:08 | 417 | ||
checksrc-out.txt | 14-Apr-2022 01:08 | 3.7K | ||
checksrc-summary.dcf | 14-Apr-2022 01:08 | 438 | ||
install-out.txt | 14-Apr-2022 01:08 | 1.2K | ||
install-summary.dcf | 14-Apr-2022 01:08 | 263 | ||