Name | Last modified | Size | Description | |
---|---|---|---|---|
Parent Directory | - | |||
buildsrc-summary.dcf | 14-Apr-2022 01:06 | 478 | ||
checksrc-summary.dcf | 14-Apr-2022 01:06 | 482 | ||
buildbin-summary.dcf | 14-Apr-2022 01:06 | 569 | ||
install-summary.dcf | 14-Apr-2022 01:06 | 685 | ||
buildsrc-out.txt | 14-Apr-2022 01:06 | 930 | ||
buildbin-out.txt | 14-Apr-2022 01:06 | 2.1K | ||
install-out.txt | 14-Apr-2022 01:06 | 2.8K | ||
checksrc-out.txt | 14-Apr-2022 01:06 | 5.0K | ||