Long report

Multiple platform build/check report for BioC 3.14

This page was generated on 2022-04-13 12:09:07 -0400 (Wed, 13 Apr 2022).

Approx. Package Snapshot Date (git pull): 2022-04-12 01:55:07 -0400 (Tue, 12 Apr 2022)

Package status is indicated by one of the following glyphs
  TIMEOUT  
INSTALL, BUILD, CHECK or BUILD BIN of package took more than 40 minutes
  ERROR  
Bad DESCRIPTION file, or INSTALL, BUILD or BUILD BIN of package failed, or CHECK produced errors
  WARNINGS  
CHECK of package produced warnings
  OK  
INSTALL, BUILD, CHECK and BUILD BIN of package went OK
  NA  
INSTALL, BUILD, CHECK or BUILD BIN result is not available because of an anomaly in the Build System
Click on any glyph in the report below to access the detailed report.
A
ABCDEFGHIJKLMNOPQRSTUVWXYZ
PackageMaintainerINSTALL/BUILD/CHECK
1/2083a4 1.42.0  (landing page)Laure Cougnaud  OK  
2/2083a4Base 1.42.0  (landing page)Laure Cougnaud  OK  
3/2083a4Classif 1.42.0  (landing page)Laure Cougnaud  OK  
4/2083a4Core 1.42.0  (landing page)Laure Cougnaud  OK  
5/2083a4Preproc 1.42.0  (landing page)Laure Cougnaud  OK  
6/2083a4Reporting 1.42.0  (landing page)Laure Cougnaud  OK  
7/2083ABAEnrichment 1.24.0  (landing page)Steffi Grote  OK  
8/2083ABarray 1.62.0  (landing page)Yongming Andrew Sun  OK  
9/2083abseqR 1.12.0  (landing page)JiaHong Fong  OK  
10/2083ABSSeq 1.48.0  (landing page)Wentao Yang  OK  
11/2083acde 1.24.0  (landing page)Juan Pablo Acosta  OK  
12/2083ACE 1.12.0  (landing page)Jos B Poell  OK  
13/2083aCGH 1.72.0  (landing page)Peter Dimitrov  OK  
14/2083ACME 2.50.0  (landing page)Sean Davis  WARNINGS  
15/2083ADaCGH2 2.34.0  (landing page)Ramon Diaz-Uriarte  OK  
16/2083ADAM 1.10.0  (landing page)Jose Luiz Rybarczyk Filho  OK  
17/2083ADAMgui 1.10.0  (landing page)Jose Luiz Rybarczyk Filho  OK  
18/2083adductomicsR 1.10.0  (landing page)Josie Hayes  WARNINGS  
19/2083ADImpute 1.4.0  (landing page)Ana Carolina Leote  WARNINGS  
20/2083adSplit 1.64.0  (landing page)Claudio Lottaz  OK  
21/2083AffiXcan 1.12.0  (landing page)Alessandro Lussana  OK  
22/2083affxparser 1.66.0  (landing page)Kasper Daniel Hansen  WARNINGS  
23/2083affy 1.72.0  (landing page)Rafael A. Irizarry  WARNINGS  
24/2083affycomp 1.70.0  (landing page)Rafael A. Irizarry  OK  
25/2083AffyCompatible 1.54.0  (landing page)Martin Morgan  OK  
26/2083affyContam 1.52.0  (landing page)V. Carey  OK  
27/2083affycoretools 1.66.0  (landing page)James W. MacDonald  WARNINGS  
28/2083affyILM 1.46.0  (landing page)Myriam Kroll and Fabrice Berger  OK  
29/2083affyio 1.64.0  (landing page)Ben Bolstad  WARNINGS  
30/2083affylmGUI 1.68.0  (landing page)Gordon Smyth  OK  
31/2083affyPara 1.54.0  (landing page)Markus Schmidberger  ERROR  
32/2083affyPLM 1.70.0  (landing page)Ben Bolstad  WARNINGS  
33/2083AffyRNADegradation 1.40.0  (landing page)Mario Fasold  OK  
34/2083AGDEX 1.42.0  (landing page)Cuilan lani Gao  OK  
35/2083aggregateBioVar 1.4.0  (landing page)Jason Ratcliff  OK  
36/2083agilp 3.26.0  (landing page)Benny Chain  OK  
37/2083AgiMicroRna 2.44.0  (landing page)Pedro Lopez-Romero  ERROR  
38/2083AIMS 1.26.0  (landing page)Eric R Paquet  OK  
39/2083airpart 1.2.0  (landing page)Wancen Mu  OK  
40/2083ALDEx2 1.26.0  (landing page)Greg Gloor  OK  
41/2083alevinQC 1.10.0  (landing page)Charlotte Soneson  OK  
42/2083AllelicImbalance 1.32.0  (landing page)Jesper R Gadin  OK  
43/2083AlphaBeta 1.8.0  (landing page)Yadollah Shahryary Dizaji  ERROR  
44/2083alpine 1.20.0  (landing page)Michael Love  OK  
45/2083ALPS 1.8.0  (landing page)Venu Thatikonda  ERROR  
46/2083AlpsNMR 3.4.0  (landing page)Sergio Oller Moreno  OK  
47/2083alsace 1.30.0  (landing page)Ron Wehrens  WARNINGS  
48/2083altcdfenvs 2.56.0  (landing page)Laurent Gautier  OK  
49/2083AMARETTO 1.10.0  (landing page)Olivier Gevaert  OK  
50/2083AMOUNTAIN 1.20.0  (landing page)Dong Li  OK  
51/2083amplican 1.16.0  (landing page)Eivind Valen  OK  
52/2083Anaquin 2.18.0  (landing page)Ted Wong  OK  
53/2083ANCOMBC 1.4.0  (landing page)Huang Lin  OK  
54/2083AneuFinder 1.22.0  (landing page)Aaron Taudt  OK  
55/2083ANF 1.16.0  (landing page)Tianle Ma  OK  
56/2083animalcules 1.10.0  (landing page)Yue Zhao  OK  
57/2083annaffy 1.66.0  (landing page)Colin A. Smith  WARNINGS  
58/2083annmap 1.36.99  (landing page)Chris Wirth  WARNINGS  
59/2083annotate 1.72.0  (landing page)Bioconductor Package Maintainer  OK  
60/2083AnnotationDbi 1.56.2  (landing page)Bioconductor Package Maintainer  OK  
61/2083AnnotationFilter 1.18.0  (landing page)Bioconductor Package Maintainer  OK  
62/2083AnnotationForge 1.36.0  (landing page)Bioconductor Package Maintainer  OK  
63/2083AnnotationHub 3.2.2  (landing page)Bioconductor Package Maintainer  WARNINGS  
64/2083AnnotationHubData 1.24.2  (landing page)Bioconductor Package Maintainer  WARNINGS  
65/2083annotationTools 1.68.0  (landing page)Alexandre Kuhn  OK  
66/2083annotatr 1.20.0  (landing page)Raymond G. Cavalcante  OK  
67/2083anota 1.42.0  (landing page)Ola Larsson  OK  
68/2083anota2seq 1.16.0  (landing page)Christian Oertlin , Julie Lorent  OK  
69/2083antiProfiles 1.34.0  (landing page)Hector Corrada Bravo  OK  
70/2083AnVIL 1.6.7  (landing page)Martin Morgan  OK  
71/2083AnVILBilling 1.4.0  (landing page)Vince Carey  OK  
72/2083AnVILPublish 1.4.1  (landing page)Martin Morgan  OK  
73/2083APAlyzer 1.8.0  (landing page)Ruijia Wang  WARNINGS  
74/2083apComplex 2.60.0  (landing page)Denise Scholtens  OK  
75/2083apeglm 1.16.0  (landing page)Anqi Zhu  OK  
76/2083appreci8R 1.12.1  (landing page)Sarah Sandmann  OK  
77/2083aroma.light 3.24.0  (landing page)Henrik Bengtsson  OK  
78/2083ArrayExpress 1.54.0  (landing page)Suhaib Mohammed  ERROR  
79/2083ArrayExpressHTS 1.44.0  (landing page)Angela Goncalves , Andrew Tikhonov  WARNINGS  
80/2083arrayMvout 1.52.0  (landing page)V. Carey  OK  
81/2083arrayQuality 1.72.0  (landing page)Agnes Paquet  WARNINGS  
82/2083arrayQualityMetrics 3.50.0  (landing page)Mike Smith  OK  
83/2083ARRmNormalization 1.34.0  (landing page)Jean-Philippe Fortin  OK  
84/2083artMS 1.12.0  (landing page)David Jimenez-Morales  OK  
85/2083ASAFE 1.20.0  (landing page)Qian Zhang  OK  
86/2083ASEB 1.38.0  (landing page)Likun Wang  OK  
87/2083ASGSCA 1.28.0  (landing page)Hela Romdhani  OK  
88/2083ASICS 2.10.0  (landing page)Gaëlle Lefort  WARNINGS  
89/2083ASpediaFI 1.8.0  (landing page)Doyeong Yu  OK  
90/2083ASpli 2.4.0  (landing page)Estefania Mancini  OK  
91/2083AssessORF 1.12.0  (landing page)Deepank Korandla  OK  
92/2083ASSET 2.12.0  (landing page)Samsiddhi Bhattacharjee  OK  
93/2083ASSIGN 1.30.0  (landing page)Ying Shen , W. Evan Johnson  OK  
94/2083ATACseqQC 1.18.1  (landing page)Jianhong Ou  OK  
95/2083atena 1.0.5  (landing page)Beatriz Calvo-Serra  OK  
96/2083atSNP 1.10.0  (landing page)Sunyoung Shin  OK  
97/2083attract 1.46.0  (landing page)Samuel Zimmerman  OK  
98/2083AUCell 1.16.0  (landing page)Sara Aibar  OK  
99/2083autonomics 1.2.0  (landing page)Aditya Bhagwat  WARNINGS  
100/2083Autotuner 1.8.0  (landing page)Craig McLean  ERROR  
101/2083AWFisher 1.8.0  (landing page)Zhiguang Huo  OK  
102/2083awst 1.2.0  (landing page)Davide Risso  OK  
B
ABCDEFGHIJKLMNOPQRSTUVWXYZ
PackageMaintainerINSTALL/BUILD/CHECK
103/2083BaalChIP 1.20.0  (landing page)Ines de Santiago  WARNINGS  
104/2083BAC 1.54.0  (landing page)Raphael Gottardo  OK  
105/2083bacon 1.22.0  (landing page)Maarten van Iterson  OK  
106/2083BADER 1.32.0  (landing page)Andreas Neudecker  OK  
107/2083BadRegionFinder 1.22.0  (landing page)Sarah Sandmann  OK  
108/2083BAGS 2.34.0  (landing page)Alejandro Quiroz-Zarate  OK  
109/2083ballgown 2.26.0  (landing page)Jack Fu  OK  
110/2083bambu 2.0.6  (landing page)Ying Chen  OK  
111/2083bamsignals 1.26.0  (landing page)Johannes Helmuth  OK  
112/2083BANDITS 1.10.0  (landing page)Simone Tiberi  OK  
113/2083banocc 1.18.0  (landing page)George Weingart  ERROR  
114/2083barcodetrackR 1.2.0  (landing page)Diego Alexander Espinoza  OK  
115/2083basecallQC 1.18.0  (landing page)Thomas Carroll  OK  
116/2083BaseSpaceR 1.38.0  (landing page)Jared O'Connell  OK  
117/2083Basic4Cseq 1.30.0  (landing page)Carolin Walter  OK  
118/2083BASiCS 2.6.0  (landing page)Alan O'Callaghan  OK  
119/2083BasicSTARRseq 1.22.0  (landing page)Annika Buerger  OK  
120/2083basilisk 1.6.0  (landing page)Aaron Lun  ERROR  
121/2083basilisk.utils 1.6.0  (landing page)Aaron Lun  OK  
122/2083batchelor 1.10.0  (landing page)Aaron Lun  OK  
123/2083BatchQC 1.22.0  (landing page)Solaiappan Manimaran  OK  
124/2083BayesKnockdown 1.20.0  (landing page)William Chad Young  OK  
125/2083BayesSpace 1.4.1  (landing page)Matt Stone  OK  
126/2083bayNorm 1.12.0  (landing page)Wenhao Tang  OK  
127/2083baySeq 2.28.0  (landing page)Thomas J. Hardcastle  OK  
128/2083BBCAnalyzer 1.24.0  (landing page)Sarah Sandmann  WARNINGS  
129/2083BCRANK 1.56.0  (landing page)Adam Ameur  OK  
130/2083bcSeq 1.16.0  (landing page)Jiaxing Lin  WARNINGS  
131/2083BDMMAcorrect 1.12.0  (landing page)ZHENWEI DAI  OK  
132/2083beachmat 2.10.0  (landing page)Aaron Lun  OK  
133/2083beadarray 2.44.0  (landing page)Mark Dunning  OK  
134/2083beadarraySNP 1.60.0  (landing page)Jan Oosting  OK  
135/2083BeadDataPackR 1.46.0  (landing page)Mike Smith  OK  
136/2083BEARscc 1.14.0  (landing page)Benjamin Schuster-Boeckler  OK  
137/2083BEAT 1.32.0  (landing page)Kemal Akman  OK  
138/2083BEclear 2.10.0  (landing page)David Rasp  OK  
139/2083benchdamic 1.0.0  (landing page)Matteo Calgaro  OK  
140/2083BgeeCall 1.10.0  (landing page)Julien Wollbrett  OK  
141/2083BgeeDB 2.20.1  (landing page)Julien Wollbrett , Julien Roux , Andrea Komljenovic , Frederic Bastian  ERROR  
142/2083BGmix 1.54.0  (landing page)Alex Lewin  WARNINGS  
143/2083bgx 1.60.0  (landing page)Ernest Turro  WARNINGS  
144/2083BHC 1.46.0  (landing page)Rich Savage  OK  
145/2083BicARE 1.52.0  (landing page)Pierre Gestraud  OK  
146/2083BiFET 1.14.0  (landing page)Ahrim Youn  OK  
147/2083BiGGR 1.30.0  (landing page)Anand K. Gavai  OK  
148/2083bigmelon 1.20.0  (landing page)Tyler J. Gorrie-Stone  WARNINGS  
149/2083bigPint 1.10.0  (landing page)Lindsay Rutter  WARNINGS  
150/2083BindingSiteFinder 1.0.0  (landing page)Mirko Brüggemann  OK  
151/2083bioassayR 1.32.1  (landing page)Daniela Cassol  WARNINGS  
152/2083Biobase 2.54.0  (landing page)Bioconductor Package Maintainer  OK  
153/2083biobroom 1.26.0  (landing page)John D. Storey and Andrew J. Bass  WARNINGS  
154/2083biobtreeR 1.6.0  (landing page)Tamer Gur  OK  
155/2083bioCancer 1.22.0  (landing page)Karim Mezhoud  OK  
156/2083BiocCheck 1.30.0  (landing page)Bioconductor Package Maintainer  OK  
157/2083BiocDockerManager 1.6.0  (landing page)Bioconductor Package Maintainer  OK  
158/2083BiocFileCache 2.2.1  (landing page)Lori Shepherd  ERROR  
159/2083BiocGenerics 0.40.0  (landing page)Bioconductor Package Maintainer  WARNINGS  
160/2083biocGraph 1.56.0  (landing page)Florian Hahne  OK  
161/2083BiocIO 1.4.0  (landing page)Bioconductor Package Maintainer  OK  
162/2083BiocNeighbors 1.12.0  (landing page)Aaron Lun  OK  
163/2083BiocOncoTK 1.14.0  (landing page)VJ Carey  OK  
164/2083BioCor 1.18.0  (landing page)Lluís Revilla Sancho  OK  
165/2083BiocParallel 1.28.3  (landing page)Bioconductor Package Maintainer  OK  
166/2083BiocPkgTools 1.12.2  (landing page)Sean Davis  OK  
167/2083BiocSet 1.8.1  (landing page)Kayla Morrell  OK  
168/2083BiocSingular 1.10.0  (landing page)Aaron Lun  OK  
169/2083BiocSklearn 1.16.0  (landing page)Vince Carey  OK  
170/2083BiocStyle 2.22.0  (landing page)Bioconductor Package  OK  
171/2083biocthis 1.4.0  (landing page)Leonardo Collado-Torres  OK  
172/2083BiocVersion 3.14.0  (landing page)Bioconductor Package Maintainer  OK  
173/2083biocViews 1.62.1  (landing page)Bioconductor Package Maintainer  OK  
174/2083BiocWorkflowTools 1.20.0  (landing page)Mike Smith  OK  
175/2083biodb 1.2.2  (landing page)Pierrick Roger  OK  
176/2083biodbChebi 1.0.1  (landing page)Pierrick Roger  OK  
177/2083biodbHmdb 1.0.3  (landing page)Pierrick Roger  OK  
178/2083biodbKegg 1.0.0  (landing page)Pierrick Roger  ERROR  
179/2083biodbLipidmaps 1.0.1  (landing page)Pierrick Roger  OK  
180/2083biodbUniprot 1.0.0  (landing page)Pierrick Roger  OK  
181/2083bioDist 1.66.0  (landing page)Bioconductor Package Maintainer  OK  
182/2083biomaRt 2.50.3  (landing page)Mike Smith  OK  
183/2083biomformat 1.22.0  (landing page)Paul J. McMurdie  WARNINGS  
184/2083BioMM 1.10.0  (landing page)Junfang Chen  OK  
185/2083BioMVCClass 1.62.0  (landing page)Elizabeth Whalen  OK  
186/2083biomvRCNS 1.34.0  (landing page)Yang Du  OK  
187/2083BioNERO 1.2.0  (landing page)Fabricio Almeida-Silva  OK  
188/2083BioNet 1.54.0  (landing page)Marcus Dittrich  OK  
189/2083BioNetStat 1.14.0  (landing page)Vinicius Jardim  OK  
190/2083BioPlex 1.0.2  (landing page)Ludwig Geistlinger  OK  
191/2083BioQC 1.22.0  (landing page)Jitao David Zhang  OK  
192/2083biosigner 1.22.0  (landing page)Philippe Rinaudo , Etienne Thevenot  OK  
193/2083Biostrings 2.62.0  (landing page)H. Pagès  WARNINGS  
194/2083BioTIP 1.8.0  (landing page)Yuxi (Jennifer) Sun , Zhezhen Wang , and X Holly Yang  WARNINGS  
195/2083biotmle 1.18.0  (landing page)Nima Hejazi  OK  
196/2083biovizBase 1.42.0  (landing page)Michael Lawrence  WARNINGS  
197/2083BiRewire 3.26.5  (landing page)Andrea Gobbi  WARNINGS  
198/2083biscuiteer 1.8.0  (landing page)"Jacob Morrison"  WARNINGS  
199/2083BiSeq 1.34.0  (landing page)Katja Hebestreit  OK  
200/2083BitSeq 1.38.0  (landing page)Antti Honkela , Panagiotis Papastamoulis  WARNINGS  
201/2083blacksheepr 1.8.0  (landing page)RugglesLab  OK  
202/2083blima 1.28.0  (landing page)Vojtěch Kulvait  WARNINGS  
203/2083BLMA 1.18.0  (landing page)Hung Nguyen  OK  
204/2083BloodGen3Module 1.2.0  (landing page)Darawan Rinchai  WARNINGS  
205/2083bluster 1.4.0  (landing page)Aaron Lun  ERROR  
206/2083bnbc 1.16.0  (landing page)Kipper Fletez-Brant  OK  
207/2083bnem 1.2.0  (landing page)Martin Pirkl  OK  
208/2083BPRMeth 1.20.0  (landing page)Chantriolnt-Andreas Kapourani  OK  
209/2083BRAIN 1.40.0  (landing page)Piotr Dittwald  WARNINGS  
210/2083brainflowprobes 1.8.0  (landing page)Amanda Price  OK  
211/2083BrainSABER 1.4.0  (landing page)USD Biomedical Engineering  ERROR  
212/2083BrainStars 1.38.0  (landing page)Itoshi NIKAIDO  ERROR  
213/2083branchpointer 1.20.0  (landing page)Beth Signal  OK  
214/2083breakpointR 1.12.0  (landing page)David Porubsky  OK  
215/2083brendaDb 1.8.0  (landing page)Yi Zhou  OK  
216/2083BRGenomics 1.6.0  (landing page)Mike DeBerardine  WARNINGS  
217/2083bridge 1.58.0  (landing page)Raphael Gottardo  WARNINGS  
218/2083BridgeDbR 2.4.0  (landing page)Egon Willighagen  OK  
219/2083BrowserViz 2.16.0  (landing page)Paul Shannon  OK  
220/2083BSgenome 1.62.0  (landing page)H. Pagès  WARNINGS  
221/2083bsseq 1.30.0  (landing page)Kasper Daniel Hansen  OK  
222/2083BubbleTree 2.24.0  (landing page)Todd Creasy , Wei Zhu  OK  
223/2083BufferedMatrix 1.58.0  (landing page)Ben Bolstad  WARNINGS  
224/2083BufferedMatrixMethods 1.58.0  (landing page)Ben Bolstad  OK  
225/2083bugsigdbr 1.0.1  (landing page)Ludwig Geistlinger  OK  
226/2083BUMHMM 1.18.0  (landing page)Alina Selega  OK  
227/2083bumphunter 1.36.0  (landing page)Tamilselvi Guharaj  ERROR  
228/2083BumpyMatrix 1.2.0  (landing page)Aaron Lun  OK  
229/2083BUS 1.50.0  (landing page)Yuanhua Liu  OK  
230/2083BUScorrect 1.12.0  (landing page)Xiangyu Luo  OK  
231/2083BUSpaRse 1.8.0  (landing page)Lambda Moses  OK  
232/2083BUSseq 1.0.0  (landing page)Fangda Song  OK  
C
ABCDEFGHIJKLMNOPQRSTUVWXYZ
PackageMaintainerINSTALL/BUILD/CHECK
233/2083CAEN 1.2.0  (landing page)Zhou Yan  OK  
234/2083CAFE 1.30.0  (landing page)Sander Bollen  WARNINGS  
235/2083CAGEfightR 1.14.0  (landing page)Malte Thodberg  OK  
236/2083cageminer 1.0.0  (landing page)Fabrício Almeida-Silva  OK  
237/2083CAGEr 2.0.2  (landing page)Charles Plessy  OK  
238/2083calm 1.8.0  (landing page)Kun Liang  OK  
239/2083CAMERA 1.50.0  (landing page)Steffen Neumann  OK  
240/2083canceR 1.28.04  (landing page)Karim Mezhoud  OK  
241/2083cancerclass 1.38.0  (landing page)Daniel Kosztyla  WARNINGS  
242/2083CancerInSilico 2.14.0  (landing page)Thomas D. Sherman  OK  
243/2083CancerSubtypes 1.20.0  (landing page)Taosheng Xu  OK  
244/2083CAnD 1.26.0  (landing page)Caitlin McHugh  OK  
245/2083caOmicsV 1.24.0  (landing page)Henry Zhang  OK  
246/2083Cardinal 2.12.0  (landing page)Kylie A. Bemis  OK  
247/2083CARNIVAL 2.4.0  (landing page)Olga Ivanova  OK  
248/2083casper 2.28.0  (landing page)David Rossell  WARNINGS  
249/2083CATALYST 1.18.1  (landing page)Helena L. Crowell  OK  
250/2083Category 2.60.0  (landing page)Bioconductor Package Maintainer  OK  
251/2083categoryCompare 1.38.0  (landing page)Robert M. Flight  OK  
252/2083CausalR 1.26.0  (landing page)Glyn Bradley , Steven Barrett  OK  
253/2083cbaf 1.16.0  (landing page)Arman Shahrisa  OK  
254/2083cBioPortalData 2.6.1  (landing page)Marcel Ramos  WARNINGS  
255/2083cbpManager 1.2.2  (landing page)Arsenij Ustjanzew  WARNINGS  
256/2083ccfindR 1.14.0  (landing page)Jun Woo  OK  
257/2083ccmap 1.20.0  (landing page)Alex Pickering  WARNINGS  
258/2083CCPROMISE 1.20.0  (landing page)Xueyuan Cao  WARNINGS  
259/2083ccrepe 1.30.0  (landing page)Emma Schwager ,Craig Bielski, George Weingart  OK  
260/2083celaref 1.12.0  (landing page)Sarah Williams  OK  
261/2083celda 1.10.0  (landing page)Joshua Campbell  OK  
262/2083CellaRepertorium 1.4.0  (landing page)Andrew McDavid  OK  
263/2083CellBarcode 1.0.0  (landing page)Wenjie Sun  OK  
264/2083cellbaseR 1.18.0  (landing page)Mohammed OE Abdallah  OK  
265/2083CellBench 1.10.0  (landing page)Shian Su  OK  
266/2083cellHTS2 2.58.0  (landing page)Joseph Barry  OK  
267/2083CelliD 1.2.1  (landing page)Akira Cortal  OK  
268/2083cellity 1.22.0  (landing page)Tomislav Ilicic  OK  
269/2083CellMapper 1.20.0  (landing page)Brad Nelms  WARNINGS  
270/2083cellmigRation 1.2.0  (landing page)Waldir Leoncio  OK  
271/2083CellMixS 1.10.0  (landing page)Almut Lütge  OK  
272/2083CellNOptR 1.40.0  (landing page)A.Gabor  OK  
273/2083cellscape 1.18.0  (landing page)Maia Smith  WARNINGS  
274/2083CellScore 1.14.0  (landing page)Nancy Mah  OK  
275/2083CellTrails 1.12.0  (landing page)Daniel Ellwanger  OK  
276/2083cellTree 1.24.0  (landing page)David duVerle  OK  
277/2083CEMiTool 1.18.1  (landing page)Helder Nakaya  OK  
278/2083censcyt 1.2.1  (landing page)Reto Gerber  OK  
279/2083Cepo 1.0.0  (landing page)Hani Jieun Kim  OK  
280/2083ceRNAnetsim 1.6.99  (landing page)Selcen Ari Yuka  OK  
281/2083CeTF 1.6.0  (landing page)Carlos Alberto Oliveira de Biagi Junior  OK  
282/2083CexoR 1.32.0  (landing page)Pedro Madrigal  OK  
283/2083CFAssay 1.28.0  (landing page)Herbert Braselmann  OK  
284/2083cfDNAPro 1.0.0  (landing page)Haichao Wang  OK  
285/2083CGEN 3.30.0  (landing page)Justin Lee  OK  
286/2083CGHbase 1.54.0  (landing page)Mark van de Wiel  OK  
287/2083CGHcall 2.56.0  (landing page)Mark van de Wiel  WARNINGS  
288/2083cghMCR 1.52.0  (landing page)J. Zhang  WARNINGS  
289/2083CGHnormaliter 1.48.0  (landing page)Bart P.P. van Houte  OK  
290/2083CGHregions 1.52.0  (landing page)Sjoerd Vosse  OK  
291/2083ChAMP 2.24.0  (landing page)Yuan Tian  WARNINGS  
292/2083ChemmineOB 1.32.0  (landing page)Thomas Girke  WARNINGS  
293/2083ChemmineR 3.46.0  (landing page)Thomas Girke  WARNINGS  
294/2083CHETAH 1.10.0  (landing page)Jurrian de Kanter  ERROR  
295/2083ChIC 1.14.0  (landing page)Carmen Maria Livi  OK  
296/2083Chicago 1.22.0  (landing page)Mikhail Spivakov  OK  
297/2083chimeraviz 1.20.0  (landing page)Stian Lågstad  OK  
298/2083ChIPanalyser 1.16.0  (landing page)Patrick C.N. Martin  OK  
299/2083ChIPComp 1.24.0  (landing page)Li Chen  OK  
300/2083chipenrich 2.18.0  (landing page)Raymond G. Cavalcante  OK  
301/2083ChIPexoQual 1.18.0  (landing page)Rene Welch  OK  
302/2083ChIPpeakAnno 3.28.1  (landing page)Jianhong Ou  OK  
303/2083ChIPQC 1.30.0  (landing page)Tom Carroll , Rory Stark  WARNINGS  
304/2083ChIPseeker 1.30.3  (landing page)Guangchuang Yu  OK  
305/2083chipseq 1.44.0  (landing page)Bioconductor Package Maintainer  WARNINGS  
306/2083ChIPseqR 1.48.0  (landing page)Peter Humburg  OK  
307/2083ChIPsim 1.48.0  (landing page)Peter Humburg  OK  
308/2083ChIPXpress 1.38.0  (landing page)George Wu  OK  
309/2083chopsticks 1.60.0  (landing page)Hin-Tak Leung  WARNINGS  
310/2083chromDraw 2.24.0  (landing page)Jan Janecka  WARNINGS  
311/2083ChromHeatMap 1.48.0  (landing page)Tim F. Rayner  OK  
312/2083chromPlot 1.22.0  (landing page)Karen Y. Orostica  WARNINGS  
313/2083ChromSCape 1.4.0  (landing page)Pacome Prompsy  OK  
314/2083chromstaR 1.20.2  (landing page)Aaron Taudt  ERROR  
315/2083chromswitch 1.16.0  (landing page)Selin Jessa  OK  
316/2083chromVAR 1.16.0  (landing page)Alicia Schep  OK  
317/2083CHRONOS 1.22.0  (landing page)Panos Balomenos  OK  
318/2083cicero 1.12.1  (landing page)Hannah Pliner  ERROR  
319/2083CIMICE 1.2.1  (landing page)Nicolò Rossi  OK  
320/2083CINdex 1.22.0  (landing page)Yuriy Gusev  WARNINGS  
321/2083circRNAprofiler 1.8.0  (landing page)Simona Aufiero  OK  
322/2083cisPath 1.34.0  (landing page)Likun Wang  WARNINGS  
323/2083CiteFuse 1.6.0  (landing page)Yingxin Lin  OK  
324/2083ClassifyR 2.14.0  (landing page)Dario Strbenac  OK  
325/2083cleanUpdTSeq 1.32.0  (landing page)Jianhong Ou ; Lihua Julie Zhu  OK  
326/2083cleaver 1.32.0  (landing page)Sebastian Gibb  OK  
327/2083clippda 1.44.0  (landing page)Stephen Nyangoma  WARNINGS  
328/2083clipper 1.34.0  (landing page)Paolo Martini  OK  
329/2083cliProfiler 1.0.0  (landing page)You Zhou  OK  
330/2083cliqueMS 1.8.0  (landing page)Oriol Senan Campos  OK  
331/2083Clomial 1.30.0  (landing page)Habil Zare  OK  
332/2083Clonality 1.42.0  (landing page)Irina Ostrovnaya  OK  
333/2083clonotypeR 1.32.1  (landing page)Charles Plessy  OK  
334/2083clst 1.42.0  (landing page)Noah Hoffman  WARNINGS  
335/2083clstutils 1.42.0  (landing page)Noah Hoffman  WARNINGS  
336/2083CluMSID 1.10.0  (landing page)Tobias Depke  OK  
337/2083clustComp 1.22.0  (landing page)Aurora Torrente  OK  
338/2083clusterExperiment 2.14.0  (landing page)Elizabeth Purdom  TIMEOUT  
339/2083ClusterJudge 1.16.0  (landing page)Adrian Pasculescu  OK  
340/2083clusterProfiler 4.2.2  (landing page)Guangchuang Yu  OK  
341/2083clusterSeq 1.18.0  (landing page)Thomas J. Hardcastle  OK  
342/2083ClusterSignificance 1.22.0  (landing page)Jason T Serviss  OK  
343/2083clusterStab 1.66.0  (landing page)James W. MacDonald  OK  
344/2083clustifyr 1.6.0  (landing page)Rui Fu  OK  
345/2083CMA 1.52.0  (landing page)Roman Hornung  OK  
346/2083cmapR 1.6.0  (landing page)Ted Natoli  OK  
347/2083cn.farms 1.42.0  (landing page)Andreas Mitterecker  OK  
348/2083cn.mops 1.40.0  (landing page)Gundula Povysil  OK  
349/2083CNAnorm 1.40.0  (landing page)Stefano Berri  OK  
350/2083CNEr 1.30.0  (landing page)Ge Tan  WARNINGS  
351/2083CNORdt 1.36.0  (landing page)A. MacNamara  OK  
352/2083CNORfeeder 1.34.0  (landing page)E.Gjerga  OK  
353/2083CNORfuzzy 1.36.0  (landing page)T. Cokelaer  OK  
354/2083CNORode 1.36.0  (landing page)Attila Gabor  OK  
355/2083CNTools 1.50.0  (landing page)J. Zhang  OK  
356/2083CNVfilteR 1.8.0  (landing page)Jose Marcos Moreno-Cabrera  OK  
357/2083CNVgears 1.2.0  (landing page)Simone Montalbano  OK  
358/2083cnvGSA 1.38.0  (landing page)Joseph Lugo  OK  
359/2083CNViz 1.2.0  (landing page)Rebecca Greenblatt  OK  
360/2083CNVPanelizer 1.26.0  (landing page)Thomas Wolf  OK  
361/2083CNVRanger 1.10.3  (landing page)Ludwig Geistlinger  OK  
362/2083CNVrd2 1.32.0  (landing page)Hoang Tan Nguyen  OK  
363/2083CoCiteStats 1.66.0  (landing page)Bioconductor Package Maintainer  OK  
364/2083COCOA 2.8.0  (landing page)John Lawson  OK  
365/2083codelink 1.62.0  (landing page)Diego Diez  OK  
366/2083CODEX 1.26.0  (landing page)Yuchao Jiang  OK  
367/2083coexnet 1.16.0  (landing page)Juan David Henao  ERROR  
368/2083CoGAPS 3.14.0  (landing page)Elana J. Fertig  OK  
369/2083cogena 1.28.0  (landing page)Zhilong Jia  WARNINGS  
370/2083Cogito 1.0.0  (landing page)Annika Bürger  OK  
371/2083coGPS 1.38.0  (landing page)Yingying Wei  OK  
372/2083COHCAP 1.40.0  (landing page)Charles Warden  OK  
373/2083cola 2.0.0  (landing page)Zuguang Gu  OK  
374/2083combi 1.6.0  (landing page)Joris Meys  OK  
375/2083coMET 1.26.0  (landing page)Tiphaine Martin  OK  
376/2083compartmap 1.12.0  (landing page)Benjamin Johnson  OK  
377/2083COMPASS 1.32.0  (landing page)Greg Finak  OK  
378/2083compcodeR 1.30.0  (landing page)Charlotte Soneson  OK  
379/2083compEpiTools 1.28.0  (landing page)Kamal Kishore  ERROR  
380/2083ComplexHeatmap 2.10.0  (landing page)Zuguang Gu  OK  
381/2083ComPrAn 1.2.0  (landing page)Petra Palenikova  OK  
382/2083conclus 1.2.4  (landing page)Ilyess Rachedi  ERROR  
383/2083condiments 1.2.0  (landing page)Hector Roux de Bezieux  OK  
384/2083CONFESS 1.22.0  (landing page)Diana LOW  WARNINGS  
385/2083consensus 1.12.0  (landing page)Tim Peters  OK  
386/2083ConsensusClusterPlus 1.58.0  (landing page)Matt Wilkerson  OK  
387/2083consensusDE 1.12.0  (landing page)Ashley J. Waardenberg  OK  
388/2083consensusOV 1.16.0  (landing page)Benjamin Haibe-Kains  OK  
389/2083consensusSeekeR 1.22.0  (landing page)Astrid Deschenes  OK  
390/2083CONSTANd 1.2.0  (landing page)Dirk Valkenborg  OK  
391/2083contiBAIT 1.22.0  (landing page)Kieran O'Neill  WARNINGS  
392/2083conumee 1.28.0  (landing page)Volker Hovestadt  OK  
393/2083convert 1.70.0  (landing page)Yee Hwa (Jean) Yang  OK  
394/2083copa 1.62.0  (landing page)James W. MacDonald  OK  
395/2083copynumber 1.34.0  (landing page)Gro Nilsen  OK  
396/2083CopyNumberPlots 1.10.0  (landing page)Bernat Gel  OK  
397/2083CopywriteR 2.26.0  (landing page)Oscar Krijgsman  OK  
398/2083coRdon 1.12.0  (landing page)Anamaria Elek  OK  
399/2083CoRegNet 1.32.0  (landing page)Remy Nicolle  WARNINGS  
400/2083CoreGx 1.6.0  (landing page)Benjamin Haibe-Kains  OK  
401/2083Cormotif 1.40.0  (landing page)Yingying Wei  OK  
402/2083corral 1.4.0  (landing page)Lauren Hsu  OK  
403/2083CORREP 1.60.0  (landing page)Dongxiao Zhu  OK  
404/2083coseq 1.18.0  (landing page)Andrea Rau  OK  
405/2083cosmiq 1.28.0  (landing page)David Fischer  OK  
406/2083cosmosR 1.2.0  (landing page)Katharina Zirngibl  ERROR  
407/2083COSNet 1.28.0  (landing page)Marco Frasca  OK  
408/2083CountClust 1.22.0  (landing page)Kushal Dey  ERROR  
409/2083countsimQC 1.12.1  (landing page)Charlotte Soneson  OK  
410/2083covEB 1.20.0  (landing page)C. Pacini  OK  
411/2083CoverageView 1.32.0  (landing page)Ernesto Lowy  WARNINGS  
412/2083covRNA 1.20.0  (landing page)Lara Urban  OK  
413/2083cpvSNP 1.26.0  (landing page)Caitlin McHugh  OK  
414/2083cqn 1.40.0  (landing page)Kasper Daniel Hansen  OK  
415/2083CRImage 1.42.0  (landing page)Henrik Failmezger , Yinyin Yuan  OK  
416/2083CRISPRseek 1.34.2  (landing page)Lihua Julie Zhu  ERROR  
417/2083crisprseekplus 1.20.0  (landing page)Alper Kucukural  OK  
418/2083CrispRVariants 1.22.0  (landing page)Helen Lindsay  WARNINGS  
419/2083crlmm 1.52.0  (landing page)Benilton S Carvalho  OK  
420/2083crossmeta 1.20.0  (landing page)Alex Pickering  WARNINGS  
421/2083CSAR 1.46.0  (landing page)Jose M Muino  OK  
422/2083csaw 1.28.0  (landing page)Aaron Lun  OK  
423/2083csdR 1.0.0  (landing page)Jakob Peder Pettersen  OK  
424/2083CSSP 1.32.0  (landing page)Chandler Zuo  OK  
425/2083CSSQ 1.6.0  (landing page)Fan Lab at Georgia Institute of Technology  OK  
426/2083ctc 1.68.0  (landing page)Antoine Lucas  OK  
427/2083CTDquerier 2.2.0  (landing page)Xavier Escribà-Montagut  ERROR  
428/2083ctgGEM 1.6.0  (landing page)USD Biomedical Engineering  OK  
429/2083cTRAP 1.12.0  (landing page)Nuno Saraiva-Agostinho  OK  
430/2083ctsGE 1.20.0  (landing page)Michal Sharabi-Schwager  OK  
431/2083cummeRbund 2.36.0  (landing page)Loyal A. Goff  WARNINGS  
432/2083customCMPdb 1.4.0  (landing page)Yuzhu Duan  OK  
433/2083customProDB 1.34.0  (landing page)Xiaojing Wang  OK  
434/2083cyanoFilter 1.2.0  (landing page)Oluwafemi Olusoji  OK  
435/2083cycle 1.48.0  (landing page)Matthias Futschik  OK  
436/2083cydar 1.18.0  (landing page)Aaron Lun  OK  
437/2083CytoDx 1.14.0  (landing page)Zicheng Hu  OK  
438/2083CyTOFpower 1.0.0  (landing page)Anne-Maud Ferreira  OK  
439/2083CytoGLMM 1.2.0  (landing page)Christof Seiler  OK  
440/2083cytoKernel 1.0.0  (landing page)Tusharkanti Ghosh  OK  
441/2083cytolib 2.6.2  (landing page)Mike Jiang  OK  
442/2083cytomapper 1.6.0  (landing page)Nils Eling  OK  
443/2083CytoML 2.6.0  (landing page)Mike Jiang  WARNINGS  
444/2083CytoTree 1.4.0  (landing page)Yuting Dai  OK  
D
ABCDEFGHIJKLMNOPQRSTUVWXYZ
PackageMaintainerINSTALL/BUILD/CHECK
445/2083dada2 1.22.0  (landing page)Benjamin Callahan  OK  
446/2083dagLogo 1.32.0  (landing page)Jianhong Ou  OK  
447/2083daMA 1.66.0  (landing page)Jobst Landgrebe  OK  
448/2083DAMEfinder 1.6.0  (landing page)Stephany Orjuela  OK  
449/2083DaMiRseq 2.6.0  (landing page)Mattia Chiesa  WARNINGS  
450/2083DAPAR 1.26.1  (landing page)Samuel Wieczorek  OK  
451/2083DART 1.42.0  (landing page)Charles Shijie Zheng  OK  
452/2083dasper 1.4.3  (landing page)David Zhang  ERROR  
453/2083dcanr 1.10.0  (landing page)Dharmesh D. Bhuva  OK  
454/2083dce 1.2.0  (landing page)Kim Philipp Jablonski  OK  
455/2083dcGSA 1.22.0  (landing page)Jiehuan sun  WARNINGS  
456/2083ddCt 1.50.0  (landing page)Jitao David Zhang  OK  
457/2083ddPCRclust 1.14.0  (landing page)Benedikt G. Brink  OK  
458/2083dearseq 1.6.0  (landing page)Boris P. Hejblum  OK  
459/2083debCAM 1.12.0  (landing page)Lulu Chen  OK  
460/2083debrowser 1.22.5  (landing page)Alper Kucukural  OK  
461/2083DECIPHER 2.22.0  (landing page)Erik Wright  OK  
462/2083deco 1.10.0  (landing page)Francisco Jose Campos Laborie  OK  
463/2083DEComplexDisease 1.14.0  (landing page)Guofeng Meng  OK  
464/2083decompTumor2Sig 2.10.0  (landing page)Rosario M. Piro  OK  
465/2083DeconRNASeq 1.36.0  (landing page)Ting Gong  OK  
466/2083decontam 1.14.0  (landing page)Benjamin Callahan  OK  
467/2083deconvR 1.0.1  (landing page)İrem B. Gündüz  OK  
468/2083decoupleR 2.0.1  (landing page)Pau Badia-i-Mompel  ERROR  
469/2083DeepBlueR 1.20.0  (landing page)Felipe Albrecht , Markus List  OK  
470/2083DeepPINCS 1.2.2  (landing page)Dongmin Jung  OK  
471/2083deepSNV 1.40.0  (landing page)Moritz Gerstung  OK  
472/2083DEFormats 1.22.0  (landing page)Andrzej Oleś  OK  
473/2083DegNorm 1.4.0  (landing page)Ji-Ping Wang  OK  
474/2083DEGraph 1.46.0  (landing page)Laurent Jacob  OK  
475/2083DEGreport 1.30.3  (landing page)Lorena Pantano  OK  
476/2083DEGseq 1.48.0  (landing page)Likun Wang  OK  
477/2083DelayedArray 0.20.0  (landing page)Hervé Pagès  WARNINGS  
478/2083DelayedDataFrame 1.10.0  (landing page)Qian Liu  OK  
479/2083DelayedMatrixStats 1.16.0  (landing page)Peter Hickey  OK  
480/2083DelayedRandomArray 1.2.0  (landing page)Aaron Lun  OK  
481/2083DelayedTensor 1.0.0  (landing page)Koki Tsuyuzaki  WARNINGS  
482/2083deltaCaptureC 1.8.0  (landing page)Michael Shapiro  OK  
483/2083deltaGseg 1.34.0  (landing page)Diana Low  OK  
484/2083DeMAND 1.24.0  (landing page)Jung Hoon Woo , Mariano Alvarez  OK  
485/2083DeMixT 1.10.0  (landing page)Shaolong Cao, Peng Yang  OK  
486/2083densvis 1.4.0  (landing page)Alan O'Callaghan  OK  
487/2083DEP 1.16.0  (landing page)Arne Smits  WARNINGS  
488/2083DepecheR 1.10.0  (landing page)Jakob Theorell  OK  
489/2083DEqMS 1.12.1  (landing page)Yafeng Zhu  ERROR  
490/2083derfinder 1.28.0  (landing page)Leonardo Collado-Torres  OK  
491/2083derfinderHelper 1.28.0  (landing page)Leonardo Collado-Torres  OK  
492/2083derfinderPlot 1.28.1  (landing page)Leonardo Collado-Torres  OK  
493/2083DEScan2 1.14.1  (landing page)Dario Righelli  OK  
494/2083DESeq2 1.34.0  (landing page)Michael Love  OK  
495/2083DEsingle 1.14.0  (landing page)Zhun Miao  OK  
496/2083destiny 3.8.1  (landing page)Philipp Angerer  OK  
497/2083DEsubs 1.20.0  (landing page)Aristidis G. Vrahatis , Panos Balomenos  OK  
498/2083DEWSeq 1.8.0  (landing page)bioinformatics team Hentze  OK  
499/2083DExMA 1.2.1  (landing page)Juan Antonio Villatoro-García  OK  
500/2083DEXSeq 1.40.0  (landing page)Alejandro Reyes  OK  
501/2083DFP 1.52.0  (landing page)Rodrigo Alvarez-Glez  OK  
502/2083DIAlignR 2.2.0  (landing page)Shubham Gupta  OK  
503/2083DiffBind 3.4.11  (landing page)Rory Stark  OK  
504/2083diffcoexp 1.14.0  (landing page)Wenbin Wei  OK  
505/2083diffcyt 1.14.0  (landing page)Lukas M. Weber  ERROR  
506/2083diffGeneAnalysis 1.76.0  (landing page)Choudary Jagarlamudi  OK  
507/2083diffHic 1.26.0  (landing page)Aaron Lun  OK  
508/2083DiffLogo 2.18.0  (landing page)Hendrik Treutler  WARNINGS  
509/2083diffloop 1.22.0  (landing page)Caleb Lareau  WARNINGS  
510/2083diffuStats 1.14.0  (landing page)Sergio Picart-Armada  OK  
511/2083diffUTR 1.2.0  (landing page)Pierre-Luc Germain  OK  
512/2083diggit 1.26.0  (landing page)Mariano J Alvarez  WARNINGS  
513/2083Dino 1.0.0  (landing page)Jared Brown  OK  
514/2083dir.expiry 1.2.0  (landing page)Aaron Lun  OK  
515/2083Director 1.20.0  (landing page)Katherine Icay  TIMEOUT  
516/2083DirichletMultinomial 1.36.0  (landing page)Martin Morgan  OK  
517/2083discordant 1.18.0  (landing page)Charlotte Siska  WARNINGS  
518/2083DiscoRhythm 1.10.1  (landing page)Matthew Carlucci  OK  
519/2083distinct 1.6.0  (landing page)Simone Tiberi  OK  
520/2083dittoSeq 1.6.0  (landing page)Daniel Bunis  OK  
521/2083divergence 1.10.0  (landing page)Wikum Dinalankara , Luigi Marchionni  OK  
522/2083dks 1.40.0  (landing page)Jeffrey T. Leek  OK  
523/2083DMCFB 1.8.0  (landing page)Farhad Shokoohi  OK  
524/2083DMCHMM 1.16.0  (landing page)Farhad Shokoohi  ERROR  
525/2083DMRcaller 1.26.0  (landing page)Nicolae Radu Zabet  OK  
526/2083DMRcate 2.8.5  (landing page)Tim Peters  ERROR  
527/2083DMRforPairs 1.30.0  (landing page)Martin Rijlaarsdam  OK  
528/2083DMRScan 1.16.0  (landing page)Christian M Page  OK  
529/2083dmrseq 1.14.0  (landing page)Keegan Korthauer  WARNINGS  
530/2083DNABarcodeCompatibility 1.10.0  (landing page)Céline Trébeau  OK  
531/2083DNABarcodes 1.24.0  (landing page)Tilo Buschmann  OK  
532/2083DNAcopy 1.68.0  (landing page)Venkatraman E. Seshan  OK  
533/2083DNAshapeR 1.22.0  (landing page)Tsu-Pei Chiu  OK  
534/2083DominoEffect 1.14.0  (landing page)Marija Buljan  OK  
535/2083doppelgangR 1.22.0  (landing page)Levi Waldron  OK  
536/2083Doscheda 1.16.0  (landing page)Bruno Contrino  OK  
537/2083DOSE 3.20.1  (landing page)Guangchuang Yu  OK  
538/2083doseR 1.10.0  (landing page)ake.vastermark  OK  
539/2083dpeak 1.6.0  (landing page)Dongjun Chung  OK  
540/2083drawProteins 1.14.0  (landing page)Paul Brennan  OK  
541/2083DRIMSeq 1.22.0  (landing page)Malgorzata Nowicka  WARNINGS  
542/2083DriverNet 1.34.0  (landing page)Jiarui Ding  OK  
543/2083DropletUtils 1.14.2  (landing page)Jonathan Griffiths  OK  
544/2083drugTargetInteractions 1.2.0  (landing page)Thomas Girke  OK  
545/2083DrugVsDisease 2.36.0  (landing page)j. Saez-Rodriguez  OK  
546/2083DSS 2.42.0  (landing page)Hao Wu , Hao Feng  WARNINGS  
547/2083dStruct 1.0.0  (landing page)Krishna Choudhary  OK  
548/2083DTA 2.40.0  (landing page)Bjoern Schwalb  OK  
549/2083dualKS 1.54.0  (landing page)Eric J. Kort  ERROR  
550/2083Dune 1.6.0  (landing page)Hector Roux de Bezieux  OK  
551/2083dupRadar 1.24.0  (landing page)Sergi Sayols , Holger Klein  OK  
552/2083dyebias 1.54.0  (landing page)Philip Lijnzaad  OK  
553/2083DynDoc 1.72.0  (landing page)Bioconductor Package Maintainer  OK  
E
ABCDEFGHIJKLMNOPQRSTUVWXYZ
PackageMaintainerINSTALL/BUILD/CHECK
554/2083easier 1.0.0  (landing page)Oscar Lapuente-Santana  OK  
555/2083easyreporting 1.6.0  (landing page)Dario Righelli  OK  
556/2083easyRNASeq 2.30.0  (landing page)Nicolas Delhomme  ERROR  
557/2083EBarrays 2.58.0  (landing page)Ming Yuan  OK  
558/2083EBcoexpress 1.38.0  (landing page)John A. Dawson  WARNINGS  
559/2083EBImage 4.36.0  (landing page)Andrzej Oleś  OK  
560/2083EBSEA 1.22.0  (landing page)Arfa Mehmood  OK  
561/2083EBSeq 1.34.0  (landing page)Ning Leng  OK  
562/2083EBSeqHMM 1.28.0  (landing page)Ning Leng  OK  
563/2083ecolitk 1.66.0  (landing page)Laurent Gautier  WARNINGS  
564/2083EDASeq 2.28.0  (landing page)Davide Risso  OK  
565/2083edge 2.26.0  (landing page)John D. Storey , Andrew J. Bass  WARNINGS  
566/2083edgeR 3.36.0  (landing page)Yunshun Chen , Gordon Smyth , Aaron Lun , Mark Robinson  OK  
567/2083eegc 1.20.0  (landing page)Xiaoyuan Zhou  WARNINGS  
568/2083EGAD 1.22.0  (landing page)Sara Ballouz  WARNINGS  
569/2083EGSEA 1.22.0  (landing page)Monther Alhamdoosh  WARNINGS  
570/2083eiR 1.34.0  (landing page)Thomas Girke  WARNINGS  
571/2083eisaR 1.6.0  (landing page)Michael Stadler  OK  
572/2083ELMER 2.18.0  (landing page)Tiago Chedraoui Silva  OK  
573/2083EMDomics 2.24.0  (landing page)Sadhika Malladi and Daniel Schmolze  OK  
574/2083EmpiricalBrownsMethod 1.22.0  (landing page)David Gibbs  OK  
575/2083ENCODExplorer 2.20.0  (landing page)Charles Joly Beauparlant  ERROR  
576/2083EnhancedVolcano 1.12.0  (landing page)Kevin Blighe  OK  
577/2083enhancerHomologSearch 1.0.1  (landing page)Jianhong Ou  OK  
578/2083EnMCB 1.6.0  (landing page)Xin Yu  OK  
579/2083ENmix 1.30.03  (landing page)Zongli Xu  OK  
580/2083EnrichedHeatmap 1.24.0  (landing page)Zuguang Gu  OK  
581/2083EnrichmentBrowser 2.24.2  (landing page)Ludwig Geistlinger  OK  
582/2083enrichplot 1.14.2  (landing page)Guangchuang Yu  OK  
583/2083enrichTF 1.10.0  (landing page)Zheng Wei  OK  
584/2083ensembldb 2.18.4  (landing page)Johannes Rainer  OK  
585/2083ensemblVEP 1.36.1  (landing page)Bioconductor Package Maintainer  ERROR  
586/2083ENVISIONQuery 1.42.0  (landing page)Alex Lisovich , Roger Day  ERROR  
587/2083epialleleR 1.2.0  (landing page)Oleksii Nikolaienko  WARNINGS  
588/2083epidecodeR 1.2.0  (landing page)Kandarp Joshi  OK  
589/2083EpiDISH 2.10.0  (landing page)Shijie C. Zheng  OK  
590/2083epigenomix 1.34.0  (landing page)Hans-Ulrich Klein  OK  
591/2083epigraHMM 1.2.2  (landing page)Pedro Baldoni  OK  
592/2083epihet 1.10.0  (landing page)Xiaowen Chen  OK  
593/2083epiNEM 1.18.0  (landing page)Martin Pirkl  OK  
594/2083epistack 1.0.0  (landing page)DEVAILLY Guillaume  OK  
595/2083EpiTxDb 1.6.0  (landing page)Felix G.M. Ernst  OK  
596/2083epivizr 2.24.0  (landing page)Hector Corrada Bravo  OK  
597/2083epivizrChart 1.16.0  (landing page)Hector Corrada Bravo  OK  
598/2083epivizrData 1.22.0  (landing page)Hector Corrada Bravo  OK  
599/2083epivizrServer 1.22.0  (landing page)Hector Corrada Bravo  ERROR  
600/2083epivizrStandalone 1.22.0  (landing page)Hector Corrada Bravo  OK  
601/2083erccdashboard 1.28.0  (landing page)Sarah Munro  OK  
602/2083erma 1.10.0  (landing page)VJ Carey  OK  
603/2083ERSSA 1.12.0  (landing page)Zixuan Shao  OK  
604/2083esATAC 1.16.0  (landing page)Zheng Wei  OK  
605/2083escape 1.4.0  (landing page)Nick Borcherding  OK  
606/2083esetVis 1.20.0  (landing page)Laure Cougnaud  OK  
607/2083eudysbiome 1.24.0  (landing page)Xiaoyuan Zhou  OK  
608/2083evaluomeR 1.10.0  (landing page)José Antonio Bernabé-Díaz  OK  
609/2083EventPointer 3.2.0  (landing page)Juan A. Ferrer-Bonsoms  ERROR  
610/2083EWCE 1.2.0  (landing page)Alan Murphy  OK  
611/2083ExCluster 1.12.0  (landing page)R. Matthew Tanner  OK  
612/2083ExiMiR 2.36.0  (landing page)Sylvain Gubian  OK  
613/2083exomeCopy 1.40.0  (landing page)Michael Love  OK  
614/2083exomePeak2 1.6.1  (landing page)Zhen Wei  WARNINGS  
615/2083ExperimentHub 2.2.1  (landing page)Bioconductor Package Maintainer  OK  
616/2083ExperimentHubData 1.20.1  (landing page)Bioconductor Package Maintainer  OK  
617/2083ExperimentSubset 1.4.0  (landing page)Irzam Sarfraz  OK  
618/2083ExploreModelMatrix 1.6.0  (landing page)Charlotte Soneson  OK  
619/2083ExpressionAtlas 1.22.1  (landing page)Pedro Madrigal  OK  
F
ABCDEFGHIJKLMNOPQRSTUVWXYZ
PackageMaintainerINSTALL/BUILD/CHECK
620/2083fabia 2.40.0  (landing page)Andreas Mitterecker  OK  
621/2083factDesign 1.70.0  (landing page)Denise Scholtens  OK  
622/2083FamAgg 1.22.0  (landing page)Johannes Rainer  OK  
623/2083famat 1.4.0  (landing page)Mathieu Charles  OK  
624/2083farms 1.46.0  (landing page)Djork-Arne Clevert  OK  
625/2083fastLiquidAssociation 1.30.0  (landing page)Tina Gunderson  WARNINGS  
626/2083FastqCleaner 1.12.0  (landing page)Leandro Roser  OK  
627/2083fastseg 1.40.0  (landing page)Guenter Klambauer  WARNINGS  
628/2083FCBF 2.2.0  (landing page)Tiago Lubiana  OK  
629/2083fCCAC 1.20.0  (landing page)Pedro Madrigal  OK  
630/2083fCI 1.24.0  (landing page)Shaojun Tang  OK  
631/2083fcoex 1.8.0  (landing page)Tiago Lubiana  WARNINGS  
632/2083fcScan 1.8.0  (landing page)Pierre Khoueiry Abdullah El-Kurdi  OK  
633/2083fdrame 1.66.0  (landing page)Effi Kenigsberg  OK  
634/2083FEAST 1.2.0  (landing page)Kenong Su  OK  
635/2083fedup 1.2.0  (landing page)Catherine Ross  OK  
636/2083FELLA 1.14.0  (landing page)Sergio Picart-Armada  ERROR  
637/2083ffpe 1.38.0  (landing page)Levi Waldron  OK  
638/2083fgga 1.2.0  (landing page)Spetale Flavio  OK  
639/2083FGNet 3.28.0  (landing page)Sara Aibar  ERROR  
640/2083fgsea 1.20.0  (landing page)Alexey Sergushichev  ERROR  
641/2083FilterFFPE 1.4.0  (landing page)Lanying Wei  OK  
642/2083FindIT2 1.0.3  (landing page)Guandong Shang  OK  
643/2083FindMyFriends 1.24.0  (landing page)Thomas Lin Pedersen  ERROR  
644/2083FISHalyseR 1.28.0  (landing page)Karesh Arunakirinathan  WARNINGS  
645/2083fishpond 2.0.1  (landing page)Michael Love  OK  
646/2083FitHiC 1.20.0  (landing page)Ruyu Tan  OK  
647/2083flagme 1.50.0  (landing page)Mark Robinson , Riccardo Romoli  WARNINGS  
648/2083FLAMES 1.0.2  (landing page)Voogd Oliver  OK  
649/2083flowAI 1.24.0  (landing page)Gianni Monaco  OK  
650/2083flowBeads 1.32.0  (landing page)Nikolas Pontikos  WARNINGS  
651/2083flowBin 1.30.0  (landing page)Kieran O'Neill  OK  
652/2083flowcatchR 1.28.0  (landing page)Federico Marini  OK  
653/2083flowCHIC 1.28.0  (landing page)Author: Joachim Schumann  OK  
654/2083flowCL 1.32.0  (landing page)Justin Meskas  OK  
655/2083flowClean 1.32.0  (landing page)Kipper Fletez-Brant  WARNINGS  
656/2083flowClust 3.32.0  (landing page)Greg Finak , Mike Jiang  WARNINGS  
657/2083flowCore 2.6.0  (landing page)Mike Jiang  OK  
658/2083flowCut 1.4.0  (landing page)Justin Meskas  OK  
659/2083flowCyBar 1.30.0  (landing page)Joachim Schumann  OK  
660/2083flowDensity 1.28.0  (landing page)Mehrnoush Malek  WARNINGS  
661/2083flowFP 1.52.0  (landing page)Herb Holyst  OK  
662/2083flowGraph 1.2.0  (landing page)Alice Yue  OK  
663/2083flowMap 1.32.0  (landing page)Chiaowen Joyce Hsiao  WARNINGS  
664/2083flowMatch 1.30.0  (landing page)Ariful Azad  OK  
665/2083flowMeans 1.54.0  (landing page)Nima Aghaeepour  OK  
666/2083flowMerge 2.42.0  (landing page)Greg Finak  OK  
667/2083flowPeaks 1.40.0  (landing page)Yongchao Ge  WARNINGS  
668/2083flowPloidy 1.20.0  (landing page)Tyler Smith  OK  
669/2083flowPlots 1.42.0  (landing page)N. Hawkins  OK  
670/2083FlowSOM 2.2.0  (landing page)Sofie Van Gassen  OK  
671/2083flowSpecs 1.8.0  (landing page)Jakob Theorell  OK  
672/2083flowStats 4.6.0  (landing page)Greg Finak , Mike Jiang , Jake Wagner  OK  
673/2083flowTime 1.18.0  (landing page)R. Clay Wright  OK  
674/2083flowTrans 1.46.0  (landing page)Greg Finak  OK  
675/2083flowUtils 1.58.0  (landing page)Josef Spidlen  WARNINGS  
676/2083flowViz 1.58.0  (landing page)Mike Jiang , Jake Wagner  OK  
677/2083flowVS 1.26.0  (landing page)Ariful Azad  OK  
678/2083flowWorkspace 4.6.0  (landing page)Greg Finak , Mike Jiang  WARNINGS  
679/2083fmcsR 1.36.0  (landing page)Thomas Girke  WARNINGS  
680/2083fmrs 1.4.0  (landing page)Farhad Shokoohi  OK  
681/2083fobitools 1.2.0  (landing page)Pol Castellano-Escuder  OK  
682/2083FoldGO 1.12.0  (landing page)Daniil Wiebe  OK  
683/2083FRASER 1.6.1  (landing page)Christian Mertes  OK  
684/2083frenchFISH 1.6.0  (landing page)Adam Berman  OK  
685/2083FRGEpistasis 1.30.0  (landing page)Futao Zhang  OK  
686/2083frma 1.46.0  (landing page)Matthew N. McCall  OK  
687/2083frmaTools 1.46.0  (landing page)Matthew N. McCall  OK  
688/2083FScanR 1.4.0  (landing page)Xiao Chen  OK  
689/2083FunChIP 1.20.0  (landing page)Alice Parodi  WARNINGS  
690/2083funtooNorm 1.18.0  (landing page)Kathleen Klein  ERROR  
G
ABCDEFGHIJKLMNOPQRSTUVWXYZ
PackageMaintainerINSTALL/BUILD/CHECK
691/2083GA4GHclient 1.18.0  (landing page)Welliton Souza  OK  
692/2083GA4GHshiny 1.16.0  (landing page)Welliton Souza  OK  
693/2083gaga 2.40.0  (landing page)David Rossell  WARNINGS  
694/2083gage 2.44.0  (landing page)Weijun Luo  WARNINGS  
695/2083gaggle 1.62.0  (landing page)Christopher Bare  OK  
696/2083gaia 2.38.0  (landing page)S. Morganella  OK  
697/2083GAPGOM 1.10.0  (landing page)Rezvan Ehsani  OK  
698/2083GAprediction 1.20.0  (landing page)Jon Bohlin  OK  
699/2083garfield 1.22.0  (landing page)Valentina Iotchkova  OK  
700/2083GARS 1.14.0  (landing page)Mattia Chiesa  OK  
701/2083GateFinder 1.14.0  (landing page)Nima Aghaeepour  OK  
702/2083gcapc 1.18.0  (landing page)Mingxiang Teng  OK  
703/2083gcatest 1.24.0  (landing page)Wei Hao , John D. Storey  OK  
704/2083gCrisprTools 2.0.0  (landing page)Russell Bainer  ERROR  
705/2083gcrma 2.66.0  (landing page)Z. Wu  OK  
706/2083GCSConnection 1.6.0  (landing page)Jiefei Wang  ERROR  
707/2083GCSFilesystem 1.4.0  (landing page)Jiefei Wang  OK  
708/2083GCSscore 1.8.0  (landing page)Guy M. Harris  OK  
709/2083GDCRNATools 1.14.0  (landing page)Ruidong Li  ERROR  
710/2083GDSArray 1.14.1  (landing page)Qian Liu  OK  
711/2083gdsfmt 1.30.0  (landing page)Xiuwen Zheng  OK  
712/2083GEM 1.20.0  (landing page)Hong Pan  OK  
713/2083gemini 1.8.0  (landing page)Sidharth Jain  OK  
714/2083genArise 1.70.0  (landing page)IFC Development Team  WARNINGS  
715/2083genbankr 1.22.0  (landing page)Gabriel Becker  OK  
716/2083GeneAccord 1.12.0  (landing page)Ariane L. Moore  OK  
717/2083GeneAnswers 2.36.0  (landing page)Lei Huang and Gang Feng  TIMEOUT  
718/2083geneAttribution 1.20.0  (landing page)Arthur Wuster  OK  
719/2083GeneBreak 1.24.0  (landing page)Evert van den Broek  OK  
720/2083geneClassifiers 1.18.0  (landing page)R Kuiper  OK  
721/2083GeneExpressionSignature 1.40.0  (landing page)Yang Cao  OK  
722/2083genefilter 1.76.0  (landing page)Bioconductor Package Maintainer  WARNINGS  
723/2083genefu 2.26.0  (landing page)Benjamin Haibe-Kains  OK  
724/2083GeneGA 1.44.0  (landing page)Zhenpeng Li  OK  
725/2083GeneGeneInteR 1.20.0  (landing page)Mathieu Emily  OK  
726/2083GeneMeta 1.66.0  (landing page)Bioconductor Package Maintainer  OK  
727/2083GeneNetworkBuilder 1.36.1  (landing page)Jianhong Ou  OK  
728/2083GeneOverlap 1.30.0  (landing page)António Miguel de Jesus Domingues, Max-Planck Institute for Cell Biology and Genetics  OK  
729/2083geneplast 1.20.1  (landing page)Mauro Castro  OK  
730/2083geneplotter 1.72.0  (landing page)Bioconductor Package Maintainer  OK  
731/2083geneRecommender 1.66.0  (landing page)Greg Hather  OK  
732/2083GeneRegionScan 1.50.0  (landing page)Lasse Folkersen  OK  
733/2083geneRxCluster 1.30.0  (landing page)Charles Berry  OK  
734/2083GeneSelectMMD 2.38.0  (landing page)Weiliang Qiu  WARNINGS  
735/2083GENESIS 2.24.2  (landing page)Stephanie M. Gogarten  OK  
736/2083GeneStructureTools 1.14.0  (landing page)Beth Signal  OK  
737/2083geNetClassifier 1.34.0  (landing page)Sara Aibar  OK  
738/2083GeneticsPed 1.56.0  (landing page)David Henderson  OK  
739/2083GeneTonic 1.6.4  (landing page)Federico Marini  ERROR  
740/2083geneXtendeR 1.20.0  (landing page)Bohdan Khomtchouk  ERROR  
741/2083GENIE3 1.16.0  (landing page)Van Anh Huynh-Thu  WARNINGS  
742/2083genoCN 1.46.0  (landing page)Wei Sun  WARNINGS  
743/2083GenoGAM 2.12.0  (landing page)Georg Stricker  ERROR  
744/2083genomation 1.26.0  (landing page)Altuna Akalin , Vedran Franke  WARNINGS  
745/2083GenomeInfoDb 1.30.1  (landing page)Bioconductor Package Maintainer  ERROR  
746/2083genomeIntervals 1.50.0  (landing page)Julien Gagneur  OK  
747/2083genomes 3.24.0  (landing page)Chris Stubben  OK  
748/2083GenomicAlignments 1.30.0  (landing page)Bioconductor Package Maintainer  OK  
749/2083GenomicDataCommons 1.18.0  (landing page)Sean Davis  ERROR  
750/2083GenomicDistributions 1.2.0  (landing page)Kristyna Kupkova  OK  
751/2083GenomicFeatures 1.46.5  (landing page)Bioconductor Package Maintainer  ERROR  
752/2083GenomicFiles 1.30.0  (landing page)Bioconductor Package Maintainer  OK  
753/2083genomicInstability 1.0.0  (landing page)Mariano Alvarez  ERROR  
754/2083GenomicInteractions 1.28.0  (landing page)Liz Ing-Simmons  OK  
755/2083GenomicOZone 1.8.0  (landing page)Hua Zhong, Mingzhou Song  OK  
756/2083GenomicRanges 1.46.1  (landing page)Bioconductor Package Maintainer  OK  
757/2083GenomicScores 2.6.1  (landing page)Robert Castelo  OK  
758/2083GenomicSuperSignature 1.2.1  (landing page)Sehyun Oh  OK  
759/2083GenomicTuples 1.28.0  (landing page)Peter Hickey  OK  
760/2083genotypeeval 1.26.0  (landing page)Jennifer Tom  WARNINGS  
761/2083genphen 1.22.0  (landing page)Simo Kitanovski  ERROR  
762/2083GenVisR 1.26.0  (landing page)Zachary Skidmore  ERROR  
763/2083GeoDiff 1.0.0  (landing page)Zhi Yang  OK  
764/2083GEOexplorer 1.0.0  (landing page)Guy Hunt  OK  
765/2083GEOfastq 1.2.0  (landing page)Alex Pickering  OK  
766/2083GEOmetadb 1.56.0  (landing page)Jack Zhu  WARNINGS  
767/2083GeomxTools 2.0.0  (landing page)Nicole Ortogero  OK  
768/2083GEOquery 2.62.2  (landing page)Sean Davis  WARNINGS  
769/2083GEOsubmission 1.46.0  (landing page)Alexandre Kuhn  OK  
770/2083gep2pep 1.14.0  (landing page)Francesco Napolitano  OK  
771/2083gespeR 1.26.0  (landing page)Fabian Schmich  WARNINGS  
772/2083getDEE2 1.4.0  (landing page)Mark Ziemann  OK  
773/2083geva 1.2.0  (landing page)Itamar José Guimarães Nunes  OK  
774/2083GEWIST 1.38.0  (landing page)Wei Q. Deng  OK  
775/2083ggbio 1.42.0  (landing page)Michael Lawrence  WARNINGS  
776/2083ggcyto 1.22.0  (landing page)Mike Jiang ,Jake Wagner  OK  
777/2083ggmsa 1.0.0  (landing page)Lang Zhou  OK  
778/2083GGPA 1.6.0  (landing page)Dongjun Chung  OK  
779/2083ggspavis 1.0.0  (landing page)Lukas M. Weber  OK  
780/2083ggtree 3.2.1  (landing page)Guangchuang Yu  OK  
781/2083ggtreeExtra 1.4.2  (landing page)Shuangbin Xu  OK  
782/2083GIGSEA 1.12.0  (landing page)Shijia Zhu  ERROR  
783/2083girafe 1.46.0  (landing page)J. Toedling  OK  
784/2083GISPA 1.18.0  (landing page)Bhakti Dwivedi  OK  
785/2083GLAD 2.58.0  (landing page)Philippe Hupe  WARNINGS  
786/2083GladiaTOX 1.10.3  (landing page)PMP S.A. R Support  OK  
787/2083Glimma 2.4.0  (landing page)Shian Su  OK  
788/2083glmGamPoi 1.6.0  (landing page)Constantin Ahlmann-Eltze  OK  
789/2083glmSparseNet 1.12.0  (landing page)André Veríssimo  ERROR  
790/2083GlobalAncova 4.12.0  (landing page)Manuela Hummel  OK  
791/2083globalSeq 1.22.0  (landing page)Armin Rauschenberger  OK  
792/2083globaltest 5.48.0  (landing page)Jelle Goeman  ERROR  
793/2083gmapR 1.36.0  (landing page)Michael Lawrence  WARNINGS  
794/2083GmicR 1.8.0  (landing page)Richard Virgen-Slane  WARNINGS  
795/2083gmoviz 1.6.0  (landing page)Kathleen Zeglinski  OK  
796/2083GMRP 1.22.0  (landing page)Yuan-De Tan  WARNINGS  
797/2083GNET2 1.10.0  (landing page)Chen Chen  OK  
798/2083GOexpress 1.28.0  (landing page)Kevin Rue-Albrecht  OK  
799/2083GOfuncR 1.14.0  (landing page)Steffi Grote  OK  
800/2083GOpro 1.20.0  (landing page)Lidia Chrabaszcz  WARNINGS  
801/2083goProfiles 1.56.0  (landing page)Alex Sanchez  OK  
802/2083GOSemSim 2.20.0  (landing page)Guangchuang Yu  OK  
803/2083goseq 1.46.0  (landing page)Matthew Young , Nadia Davidson  OK  
804/2083GOSim 1.32.0  (landing page)Holger Froehlich  OK  
805/2083goSTAG 1.18.0  (landing page)Brian D. Bennett  OK  
806/2083GOstats 2.60.0  (landing page)Bioconductor Package Maintainer  OK  
807/2083GOsummaries 2.30.0  (landing page)Raivo Kolde  OK  
808/2083GOTHiC 1.30.0  (landing page)Borbala Mifsud  OK  
809/2083goTools 1.68.0  (landing page)Agnes Paquet  OK  
810/2083GPA 1.6.0  (landing page)Dongjun Chung  OK  
811/2083gpart 1.12.0  (landing page)Sun Ah Kim  ERROR  
812/2083gpls 1.66.0  (landing page)Bioconductor Package Maintainer  WARNINGS  
813/2083gprege 1.38.0  (landing page)Alfredo Kalaitzis  OK  
814/2083gpuMagic 1.10.0  (landing page)Jiefei Wang  OK  
815/2083gramm4R 1.8.0  (landing page)Tianlu Chen  ERROR  
816/2083granulator 1.2.0  (landing page)Sabina Pfister  OK  
817/2083graper 1.10.0  (landing page)Britta Velten  OK  
818/2083graph 1.72.0  (landing page)Bioconductor Package Maintainer  OK  
819/2083GraphAlignment 1.58.0  (landing page)Joern P. Meier  WARNINGS  
820/2083GraphAT 1.66.0  (landing page)Thomas LaFramboise  OK  
821/2083graphite 1.40.0  (landing page)Gabriele Sales  OK  
822/2083GraphPAC 1.36.0  (landing page)Gregory Ryslik  OK  
823/2083GRENITS 1.46.0  (landing page)Edward Morrissey  OK  
824/2083GreyListChIP 1.26.0  (landing page)Gordon Brown  OK  
825/2083GRmetrics 1.20.0  (landing page)Nicholas Clark , Mario Medvedovic  OK  
826/2083groHMM 1.28.0  (landing page)Anusha Nagari , Tulip Nandu , W. Lee Kraus  OK  
827/2083GRridge 1.18.0  (landing page)Mark A. van de Wiel  WARNINGS  
828/2083GSALightning 1.22.0  (landing page)Billy Heung Wing Chang  OK  
829/2083GSAR 1.28.0  (landing page)Yasir Rahmatallah , Galina Glazko  OK  
830/2083GSCA 2.24.0  (landing page)Zhicheng Ji  OK  
831/2083gscreend 1.8.0  (landing page)Katharina Imkeller  OK  
832/2083GSEABase 1.56.0  (landing page)Bioconductor Package Maintainer  OK  
833/2083GSEABenchmarkeR 1.14.0  (landing page)Ludwig Geistlinger  OK  
834/2083GSEAlm 1.54.0  (landing page)Assaf Oron  OK  
835/2083GSEAmining 1.4.0  (landing page)Oriol Arqués  OK  
836/2083gsean 1.14.0  (landing page)Dongmin Jung  ERROR  
837/2083GSgalgoR 1.4.0  (landing page)Carlos Catania  OK  
838/2083GSReg 1.28.0  (landing page)Bahman Afsari , Elana J. Fertig  WARNINGS  
839/2083GSRI 2.42.0  (landing page)Julian Gehring  OK  
840/2083GSVA 1.42.0  (landing page)Justin Guinney  OK  
841/2083gtrellis 1.26.0  (landing page)Zuguang Gu  OK  
842/2083GUIDEseq 1.24.0  (landing page)Lihua Julie Zhu  OK  
843/2083Guitar 2.10.0  (landing page)Jia Meng  OK  
844/2083Gviz 1.38.4  (landing page)Robert Ivanek  OK  
845/2083GWAS.BAYES 1.4.0  (landing page)Jake Williams  OK  
846/2083gwascat 2.26.0  (landing page)VJ Carey  OK  
847/2083GWASTools 1.40.0  (landing page)Stephanie M. Gogarten  OK  
848/2083gwasurvivr 1.12.0  (landing page)Abbas Rizvi  OK  
849/2083GWENA 1.4.0  (landing page)Gwenaëlle Lemoine  OK  
H
ABCDEFGHIJKLMNOPQRSTUVWXYZ
PackageMaintainerINSTALL/BUILD/CHECK
850/2083h5vc 2.28.0  (landing page)Paul Theodor Pyl  WARNINGS  
851/2083hapFabia 1.36.0  (landing page)Andreas Mitterecker  WARNINGS  
852/2083Harman 1.22.0  (landing page)Jason Ross  WARNINGS  
853/2083Harshlight 1.66.0  (landing page)Maurizio Pellegrino  OK  
854/2083hca 1.2.3  (landing page)Martin Morgan  OK  
855/2083HDF5Array 1.22.1  (landing page)Hervé Pagès  WARNINGS  
856/2083HDTD 1.28.0  (landing page)Anestis Touloumis  OK  
857/2083heatmaps 1.18.0  (landing page)Malcolm Perry  OK  
858/2083Heatplus 3.2.0  (landing page)Alexander Ploner  OK  
859/2083HelloRanges 1.20.0  (landing page)Michael Lawrence  ERROR  
860/2083HELP 1.52.0  (landing page)Reid F. Thompson  OK  
861/2083HEM 1.66.0  (landing page)HyungJun Cho  OK  
862/2083Herper 1.4.0  (landing page)Thomas Carroll  TIMEOUT  
863/2083HGC 1.2.0  (landing page)XGlab  WARNINGS  
864/2083hiAnnotator 1.28.0  (landing page)Nirav V Malani  OK  
865/2083HIBAG 1.30.2  (landing page)Xiuwen Zheng  ERROR  
866/2083HiCBricks 1.12.0  (landing page)Koustav Pal  ERROR  
867/2083HiCcompare 1.16.0  (landing page)John Stansfield , Mikhail Dozmorov  WARNINGS  
868/2083HiCDCPlus 1.2.1  (landing page)Merve Sahin  ERROR  
869/2083hierGWAS 1.24.0  (landing page)Laura Buzdugan  OK  
870/2083hierinf 1.12.0  (landing page)Claude Renaux  OK  
871/2083HilbertCurve 1.24.0  (landing page)Zuguang Gu  OK  
872/2083HilbertVis 1.52.0  (landing page)Simon Anders  WARNINGS  
873/2083HilbertVisGUI 1.52.0  (landing page)Simon Anders  WARNINGS  
874/2083HiLDA 1.8.0  (landing page)Zhi Yang  OK  
875/2083hipathia 2.10.0  (landing page)Marta R. Hidalgo  OK  
876/2083HIPPO 1.6.0  (landing page)Tae Kim  OK  
877/2083hiReadsProcessor 1.30.0  (landing page)Nirav V Malani  OK  
878/2083HIREewas 1.12.0  (landing page)Xiangyu Luo  OK  
879/2083HiTC 1.38.0  (landing page)Nicolas Servant  OK  
880/2083hmdbQuery 1.14.2  (landing page)VJ Carey  OK  
881/2083HMMcopy 1.36.0  (landing page)Daniel Lai , Sohrab Shah  WARNINGS  
882/2083hopach 2.54.0  (landing page)Katherine S. Pollard  OK  
883/2083HPAanalyze 1.12.0  (landing page)Anh Nhat Tran  OK  
884/2083hpar 1.36.0  (landing page)Laurent Gatto  OK  
885/2083HPAStainR 1.4.1  (landing page)Tim O. Nieuwenhuis  OK  
886/2083HPiP 1.0.0  (landing page)Matineh Rahmatbakhsh  OK  
887/2083HTqPCR 1.48.0  (landing page)Heidi Dvinge  OK  
888/2083HTSeqGenie 4.24.0  (landing page)Jens Reeder  OK  
889/2083HTSFilter 1.34.0  (landing page)Andrea Rau  OK  
890/2083HubPub 1.2.5  (landing page)Kayla Interdonato  OK  
891/2083HumanTranscriptomeCompendium 1.10.0  (landing page)VJ Carey  OK  
892/2083hummingbird 1.4.0  (landing page)Eleni Adam  OK  
893/2083HybridMTest 1.38.0  (landing page)Demba Fofana  OK  
894/2083hypeR 1.10.0  (landing page)Anthony Federico  ERROR  
895/2083hyperdraw 1.46.0  (landing page)Paul Murrell  OK  
896/2083hypergraph 1.66.0  (landing page)Bioconductor Package Maintainer  OK  
I
ABCDEFGHIJKLMNOPQRSTUVWXYZ
PackageMaintainerINSTALL/BUILD/CHECK
897/2083iASeq 1.38.0  (landing page)Yingying Wei  OK  
898/2083iasva 1.12.0  (landing page)Donghyung Lee , Anthony Cheng  OK  
899/2083iBBiG 1.38.0  (landing page)Aedin Culhane  OK  
900/2083ibh 1.42.0  (landing page)Kircicegi Korkmaz  OK  
901/2083iBMQ 1.34.0  (landing page)Greg Imholte  WARNINGS  
902/2083iCARE 1.22.0  (landing page)Bill Wheeler  WARNINGS  
903/2083Icens 1.66.0  (landing page)Bioconductor Package Maintainer  OK  
904/2083icetea 1.12.0  (landing page)Vivek Bhardwaj  ERROR  
905/2083iCheck 1.24.0  (landing page)Weiliang Qiu  OK  
906/2083iChip 1.48.0  (landing page)Qianxing Mo  OK  
907/2083iClusterPlus 1.30.0  (landing page)Qianxing Mo , Ronglai Shen  WARNINGS  
908/2083iCNV 1.14.0  (landing page)Zilu Zhou  WARNINGS  
909/2083iCOBRA 1.22.2  (landing page)Charlotte Soneson  OK  
910/2083ideal 1.18.1  (landing page)Federico Marini  OK  
911/2083IdeoViz 1.30.0  (landing page)Shraddha Pai  WARNINGS  
912/2083idiogram 1.70.0  (landing page)Karl J. Dykema  OK  
913/2083idpr 1.4.0  (landing page)William M. McFadden  OK  
914/2083idr2d 1.8.1  (landing page)Konstantin Krismer  OK  
915/2083iGC 1.24.0  (landing page)Liang-Bo Wang  OK  
916/2083IgGeneUsage 1.8.0  (landing page)Simo Kitanovski  ERROR  
917/2083igvR 1.14.0  (landing page)Paul Shannon  WARNINGS  
918/2083IHW 1.22.0  (landing page)Nikos Ignatiadis  OK  
919/2083illuminaio 0.36.0  (landing page)Kasper Daniel Hansen  OK  
920/2083ILoReg 1.4.0  (landing page)Johannes Smolander  OK  
921/2083imageHTS 1.44.1  (landing page)Joseph Barry  ERROR  
922/2083IMAS 1.18.0  (landing page)Seonggyun Han  OK  
923/2083imcRtools 1.0.2  (landing page)Nils Eling  OK  
924/2083IMMAN 1.14.0  (landing page)Minoo Ashtiani  OK  
925/2083ImmuneSpaceR 1.22.0  (landing page)ImmuneSpace Package Maintainer  OK  
926/2083immunoClust 1.26.0  (landing page)Till Soerensen  OK  
927/2083immunotation 1.2.0  (landing page)Katharina Imkeller  OK  
928/2083IMPCdata 1.30.0  (landing page)Jeremy Mason  OK  
929/2083impute 1.68.0  (landing page)Balasubramanian Narasimhan  OK  
930/2083INDEED 2.8.0  (landing page)Ressom group  OK  
931/2083infercnv 1.10.1  (landing page)Christophe Georgescu  OK  
932/2083infinityFlow 1.4.0  (landing page)Etienne Becht  OK  
933/2083Informeasure 1.4.0  (landing page)Chu Pan  OK  
934/2083InPAS 2.2.0  (landing page)Jianhong Ou  OK  
935/2083INPower 1.30.0  (landing page)Bill Wheeler  OK  
936/2083INSPEcT 1.24.0  (landing page)Stefano de Pretis  OK  
937/2083InTAD 1.14.0  (landing page)Konstantin Okonechnikov  OK  
938/2083intansv 1.34.0  (landing page)Wen Yao  OK  
939/2083interacCircos 1.4.0  (landing page)Zhe Cui  OK  
940/2083InteractionSet 1.22.0  (landing page)Aaron Lun  OK  
941/2083InteractiveComplexHeatmap 1.2.0  (landing page)Zuguang Gu  OK  
942/2083interactiveDisplay 1.32.0  (landing page)Bioconductor Package Maintainer  OK  
943/2083interactiveDisplayBase 1.32.0  (landing page)Bioconductor Package Maintainer  OK  
944/2083InterCellar 2.0.0  (landing page)Marta Interlandi  OK  
945/2083IntEREst 1.18.0  (landing page)Ali Oghabian , Mikko Frilander  OK  
946/2083InterMineR 1.16.0  (landing page)InterMine Team  ERROR  
947/2083IntramiRExploreR 1.16.0  (landing page)Surajit Bhattacharya  WARNINGS  
948/2083inveRsion 1.42.0  (landing page)Alejandro Caceres  WARNINGS  
949/2083IONiseR 2.18.0  (landing page)Mike Smith  OK  
950/2083iPAC 1.38.0  (landing page)Gregory Ryslik  OK  
951/2083iPath 1.0.0  (landing page)Kenong Su  ERROR  
952/2083ipdDb 1.12.0  (landing page)Steffen Klasberg  OK  
953/2083IPO 1.20.0  (landing page)Thomas Riebenbauer  OK  
954/2083IRanges 2.28.0  (landing page)Bioconductor Package Maintainer  WARNINGS  
955/2083IRISFGM 1.2.0  (landing page)Yuzhou Chang  OK  
956/2083ISAnalytics 1.4.3  (landing page)Andrea Calabria  OK  
957/2083iSEE 2.6.0  (landing page)Kevin Rue-Albrecht  OK  
958/2083iSEEu 1.6.0  (landing page)Kevin Rue-Albrecht  WARNINGS  
959/2083iSeq 1.46.0  (landing page)Qianxing Mo  OK  
960/2083isobar 1.40.0  (landing page)Florian P Breitwieser  WARNINGS  
961/2083IsoCorrectoR 1.12.0  (landing page)Christian Kohler  OK  
962/2083IsoCorrectoRGUI 1.10.0  (landing page)Christian Kohler  OK  
963/2083IsoformSwitchAnalyzeR 1.16.0  (landing page)Kristoffer Vitting-Seerup  OK  
964/2083IsoGeneGUI 2.30.0  (landing page)Setia Pramana  OK  
965/2083ISoLDE 1.22.0  (landing page)Christelle Reynès  WARNINGS  
966/2083isomiRs 1.22.1  (landing page)Lorena Pantano  OK  
967/2083ITALICS 2.54.0  (landing page)Guillem Rigaill  OK  
968/2083iterativeBMA 1.52.0  (landing page)Ka Yee Yeung  OK  
969/2083iterativeBMAsurv 1.52.0  (landing page)Ka Yee Yeung  OK  
970/2083iterClust 1.16.0  (landing page)Hongxu Ding  OK  
971/2083iteremoval 1.14.0  (landing page)Jiacheng Chuan  OK  
972/2083IVAS 2.14.0  (landing page)Seonggyun Han  WARNINGS  
973/2083ivygapSE 1.16.0  (landing page)VJ Carey  OK  
974/2083IWTomics 1.18.0  (landing page)Marzia A Cremona  WARNINGS  
K
ABCDEFGHIJKLMNOPQRSTUVWXYZ
PackageMaintainerINSTALL/BUILD/CHECK
975/2083karyoploteR 1.20.3  (landing page)Bernat Gel  OK  
976/2083KBoost 1.2.0  (landing page)Luis F. Iglesias-Martinez  OK  
977/2083KCsmart 2.52.0  (landing page)Jorma de Ronde  WARNINGS  
978/2083kebabs 1.28.1  (landing page)Ulrich Bodenhofer  OK  
979/2083KEGGgraph 1.54.0  (landing page)Jitao David Zhang  OK  
980/2083KEGGlincs 1.20.0  (landing page)Shana White , Mario Medvedovic  OK  
981/2083keggorthology 2.46.0  (landing page)VJ Carey  OK  
982/2083KEGGprofile 1.36.0  (landing page)Shilin Zhao  ERROR  
983/2083KEGGREST 1.34.0  (landing page)Bioconductor Package Maintainer  OK  
984/2083KinSwingR 1.12.0  (landing page)Ashley J. Waardenberg  OK  
985/2083kissDE 1.14.0  (landing page)Aurélie Siberchicot  OK  
986/2083KnowSeq 1.8.1  (landing page)Daniel Castillo-Secilla  OK  
L
ABCDEFGHIJKLMNOPQRSTUVWXYZ
PackageMaintainerINSTALL/BUILD/CHECK
987/2083LACE 1.6.0  (landing page)Davide Maspero  OK  
988/2083lapmix 1.60.0  (landing page)Yann Ruffieux  OK  
989/2083LBE 1.62.0  (landing page)Cyril Dalmasso  OK  
990/2083ldblock 1.24.0  (landing page)VJ Carey  OK  
991/2083LEA 3.6.0  (landing page)Olivier Francois  OK  
992/2083LedPred 1.28.0  (landing page)Aitor Gonzalez  OK  
993/2083lefser 1.4.0  (landing page)Asya Khleborodova  OK  
994/2083les 1.44.0  (landing page)Julian Gehring  OK  
995/2083levi 1.12.0  (landing page)Jose Luiz Rybarczyk Filho  OK  
996/2083lfa 1.24.0  (landing page)Wei Hao , John D. Storey  WARNINGS  
997/2083limma 3.50.3  (landing page)Gordon Smyth  OK  
998/2083limmaGUI 1.70.0  (landing page)Gordon Smyth  OK  
999/2083LineagePulse 1.14.0  (landing page)David S Fischer  WARNINGS  
1000/2083LinkHD 1.8.0  (landing page)"Laura M Zingaretti"  OK  
1001/2083Linnorm 2.18.0  (landing page)Ken Shun Hang Yip  OK  
1002/2083lionessR 1.8.0  (landing page)Ping-Han Hsieh  OK  
1003/2083lipidr 2.8.1  (landing page)Ahmed Mohamed  OK  
1004/2083LiquidAssociation 1.48.0  (landing page)Yen-Yi Ho  OK  
1005/2083lisaClust 1.2.0  (landing page)Ellis Patrick  OK  
1006/2083lmdme 1.36.0  (landing page)Cristobal Fresno  WARNINGS  
1007/2083LOBSTAHS 1.20.0  (landing page)Henry Holm  WARNINGS  
1008/2083loci2path 1.14.0  (landing page)Tianlei Xu  OK  
1009/2083logicFS 2.14.0  (landing page)Holger Schwender  OK  
1010/2083logitT 1.52.0  (landing page)Tobias Guennel  OK  
1011/2083LOLA 1.24.0  (landing page)Nathan Sheffield  OK  
1012/2083LoomExperiment 1.12.0  (landing page)Bioconductor Package Maintainer  OK  
1013/2083LowMACA 1.24.0  (landing page)Stefano de Pretis , Giorgio Melloni  OK  
1014/2083LPE 1.68.0  (landing page)Nitin Jain  OK  
1015/2083LPEadj 1.54.0  (landing page)Carl Murie  OK  
1016/2083lpNet 2.26.0  (landing page)Lars Kaderali  WARNINGS  
1017/2083lpsymphony 1.22.0  (landing page)Vladislav Kim  OK  
1018/2083LRBaseDbi 2.4.0  (landing page)Koki Tsuyuzaki  OK  
1019/2083LRcell 1.2.0  (landing page)Wenjing Ma  OK  
1020/2083lumi 2.46.0  (landing page)Lei Huang  WARNINGS  
1021/2083LymphoSeq 1.22.0  (landing page)David Coffey  OK  
M
ABCDEFGHIJKLMNOPQRSTUVWXYZ
PackageMaintainerINSTALL/BUILD/CHECK
1022/2083M3C 1.16.0  (landing page)Christopher John  OK  
1023/2083M3Drop 1.20.0  (landing page)Tallulah Andrews  WARNINGS  
1024/2083m6Aboost 1.0.0  (landing page)You Zhou  OK  
1025/2083maanova 1.64.0  (landing page)Keith Sheppard  WARNINGS  
1026/2083Maaslin2 1.8.0  (landing page)Lauren McIver  OK  
1027/2083macat 1.68.0  (landing page)Joern Toedling  OK  
1028/2083maCorrPlot 1.64.0  (landing page)Alexander Ploner  OK  
1029/2083MACPET 1.14.0  (landing page)Ioannis Vardaxis  ERROR  
1030/2083MACSQuantifyR 1.8.0  (landing page)Raphaël Bonnet  OK  
1031/2083MACSr 1.2.0  (landing page)Qiang Hu  OK  
1032/2083made4 1.68.0  (landing page)Aedin Culhane  OK  
1033/2083MADSEQ 1.20.0  (landing page)Yu Kong  OK  
1034/2083maftools 2.10.05  (landing page)Anand Mayakonda  OK  
1035/2083MAGAR 1.2.0  (landing page)Michael Scherer  OK  
1036/2083MAGeCKFlute 1.14.0  (landing page)Wubing Zhang  OK  
1037/2083MAI 1.0.0  (landing page)Jonathan Dekermanjian  OK  
1038/2083maigesPack 1.58.0  (landing page)Gustavo H. Esteves  OK  
1039/2083MAIT 1.28.0  (landing page)Pol Sola-Santos  OK  
1040/2083makecdfenv 1.70.0  (landing page)James W. MacDonald  WARNINGS  
1041/2083MANOR 1.66.0  (landing page)Pierre Neuvial  WARNINGS  
1042/2083MantelCorr 1.64.0  (landing page)Brian Steinmeyer  OK  
1043/2083mAPKL 1.24.0  (landing page)Argiris Sakellariou  OK  
1044/2083maPredictDSC 1.32.0  (landing page)Adi Laurentiu Tarca  OK  
1045/2083mapscape 1.18.0  (landing page)Maia Smith  WARNINGS  
1046/2083marr 1.4.0  (landing page)Tusharkanti Ghosh  OK  
1047/2083marray 1.72.0  (landing page)Yee Hwa (Jean) Yang  OK  
1048/2083martini 1.14.0  (landing page)Hector Climente-Gonzalez  ERROR  
1049/2083maser 1.12.1  (landing page)Diogo F.T. Veiga  OK  
1050/2083maSigPro 1.66.0  (landing page)Maria Jose Nueda  OK  
1051/2083maskBAD 1.38.0  (landing page)Michael Dannemann  OK  
1052/2083MassArray 1.46.0  (landing page)Reid F. Thompson  OK  
1053/2083massiR 1.30.0  (landing page)Sam Buckberry  OK  
1054/2083MassSpecWavelet 1.60.1  (landing page)Sergio Oller  OK  
1055/2083MAST 1.20.0  (landing page)Andrew McDavid  OK  
1056/2083matchBox 1.36.0  (landing page)Luigi Marchionni , Anuj Gupta  OK  
1057/2083MatrixGenerics 1.6.0  (landing page)Peter Hickey  OK  
1058/2083MatrixQCvis 1.2.4  (landing page)Thomas Naake  OK  
1059/2083MatrixRider 1.26.0  (landing page)Elena Grassi  OK  
1060/2083matter 1.20.0  (landing page)Kylie A. Bemis  OK  
1061/2083MBAmethyl 1.28.0  (landing page)Tao Wang  OK  
1062/2083MBASED 1.28.0  (landing page)Oleg Mayba  OK  
1063/2083MBCB 1.48.0  (landing page)Jeff Allen  OK  
1064/2083mbkmeans 1.10.0  (landing page)Davide Risso  OK  
1065/2083mBPCR 1.48.0  (landing page)P.M.V. Rancoita  OK  
1066/2083MBQN 2.6.2  (landing page)Eva Brombacher  OK  
1067/2083MBttest 1.22.0  (landing page)Yuan-De Tan  OK  
1068/2083MCbiclust 1.18.0  (landing page)Robert Bentham  OK  
1069/2083mCSEA 1.14.0  (landing page)Jordi Martorell-Marugán  OK  
1070/2083mdp 1.14.0  (landing page)Helder Nakaya  OK  
1071/2083mdqc 1.56.0  (landing page)Gabriela Cohen-Freue  OK  
1072/2083MDTS 1.14.0  (landing page)Jack M.. Fu  OK  
1073/2083MEAL 1.24.0  (landing page)Xavier Escribà Montagut  WARNINGS  
1074/2083MeasurementError.cor 1.66.0  (landing page)Beiying Ding  OK  
1075/2083MEAT 1.6.0  (landing page)Sarah Voisin  WARNINGS  
1076/2083MEB 1.8.0  (landing page)Jiadi Zhu  OK  
1077/2083MEDIPS 1.46.0  (landing page)Lukas Chavez  OK  
1078/2083MEDME 1.54.0  (landing page)Mattia Pelizzola  WARNINGS  
1079/2083megadepth 1.4.0  (landing page)David Zhang  OK  
1080/2083MEIGOR 1.28.0  (landing page)Jose A. Egea  WARNINGS  
1081/2083Melissa 1.10.0  (landing page)C. A. Kapourani  OK  
1082/2083memes 1.2.5  (landing page)Spencer Nystrom  OK  
1083/2083Mergeomics 1.22.0  (landing page)Zeyneb Kurt  OK  
1084/2083MeSHDbi 1.30.0  (landing page)Koki Tsuyuzaki  OK  
1085/2083meshes 1.20.0  (landing page)Guangchuang Yu  OK  
1086/2083meshr 2.0.2  (landing page)Koki Tsuyuzaki  OK  
1087/2083MesKit 1.4.0  (landing page)Mengni Liu  WARNINGS  
1088/2083messina 1.30.0  (landing page)Mark Pinese  OK  
1089/2083Metab 1.28.0  (landing page)Raphael Aggio  OK  
1090/2083metabCombiner 1.4.0  (landing page)Hani Habra  OK  
1091/2083MetaboCoreUtils 1.2.0  (landing page)Johannes Rainer  OK  
1092/2083metabolomicsWorkbenchR 1.4.0  (landing page)Gavin Rhys Lloyd  OK  
1093/2083metabomxtr 1.28.0  (landing page)Michael Nodzenski  OK  
1094/2083MetaboSignal 1.24.0  (landing page)Andrea Rodriguez-Martinez  ERROR  
1095/2083metaCCA 1.22.0  (landing page)Anna Cichonska  WARNINGS  
1096/2083MetaCyto 1.16.0  (landing page)Zicheng Hu  OK  
1097/2083metagene 2.26.0  (landing page)Charles Joly Beauparlant  OK  
1098/2083metagene2 1.10.0  (landing page)Eric Fournier  OK  
1099/2083metagenomeSeq 1.36.0  (landing page)Joseph N. Paulson  OK  
1100/2083metahdep 1.52.0  (landing page)John R. Stevens  WARNINGS  
1101/2083metaMS 1.30.0  (landing page)Yann Guitton  OK  
1102/2083MetaNeighbor 1.14.0  (landing page)Stephan Fischer  WARNINGS  
1103/2083metapod 1.2.0  (landing page)Aaron Lun  OK  
1104/2083metapone 1.0.0  (landing page)Tianwei Yu  OK  
1105/2083metaSeq 1.34.0  (landing page)Koki Tsuyuzaki  OK  
1106/2083metaseqR2 1.6.1  (landing page)Panagiotis Moulos  OK  
1107/2083metavizr 1.18.0  (landing page)Hector Corrada Bravo  OK  
1108/2083MetaVolcanoR 1.8.0  (landing page)Cesar Prada  OK  
1109/2083MetCirc 1.24.0  (landing page)Thomas Naake  OK  
1110/2083MethCP 1.8.0  (landing page)Boying Gong  ERROR  
1111/2083methimpute 1.16.0  (landing page)Aaron Taudt  OK  
1112/2083methInheritSim 1.16.0  (landing page)Pascal Belleau  OK  
1113/2083MethPed 1.22.0  (landing page)Helena Carén  OK  
1114/2083MethReg 1.4.0  (landing page)Tiago Silva  OK  
1115/2083methrix 1.8.0  (landing page)Anand Mayakonda  OK  
1116/2083MethTargetedNGS 1.26.0  (landing page)Muhammad Ahmer Jamil  OK  
1117/2083MethylAid 1.28.0  (landing page)L.J.Sinke  OK  
1118/2083methylCC 1.8.0  (landing page)Stephanie C. Hicks  OK  
1119/2083methylclock 1.0.1  (landing page)Dolors Pelegri-Siso  OK  
1120/2083methylGSA 1.12.0  (landing page)Xu Ren  OK  
1121/2083methylInheritance 1.18.0  (landing page)Astrid Deschênes  OK  
1122/2083methylKit 1.20.0  (landing page)Altuna Akalin , Alexander Gosdschan  WARNINGS  
1123/2083MethylMix 2.24.0  (landing page)Olivier Gevaert  OK  
1124/2083methylMnM 1.32.0  (landing page)Yan Zhou  OK  
1125/2083methylPipe 1.28.0  (landing page)Kamal Kishore  ERROR  
1126/2083methylscaper 1.2.0  (landing page)Bacher Rhonda  OK  
1127/2083MethylSeekR 1.34.0  (landing page)Lukas Burger  OK  
1128/2083methylSig 1.6.0  (landing page)Raymond G. Cavalcante  OK  
1129/2083methylumi 2.40.1  (landing page)Sean Davis  OK  
1130/2083MetID 1.12.0  (landing page)Zhenzhi Li  OK  
1131/2083MetNet 1.12.2  (landing page)Thomas Naake  OK  
1132/2083mfa 1.16.3  (landing page)Kieran Campbell  OK  
1133/2083Mfuzz 2.54.0  (landing page)Matthias Futschik  OK  
1134/2083MGFM 1.28.0  (landing page)Khadija El Amrani  OK  
1135/2083MGFR 1.20.0  (landing page)Khadija El Amrani  OK  
1136/2083mgsa 1.42.0  (landing page)Sebastian Bauer  OK  
1137/2083mia 1.2.7  (landing page)Felix G.M. Ernst  OK  
1138/2083miaSim 1.0.0  (landing page)Yagmur Simsek  OK  
1139/2083miaViz 1.2.1  (landing page)Felix G.M. Ernst  OK  
1140/2083MiChip 1.48.0  (landing page)Jonathon Blake  OK  
1141/2083microbiome 1.16.0  (landing page)Leo Lahti  OK  
1142/2083microbiomeDASim 1.8.0  (landing page)Justin Williams  OK  
1143/2083microbiomeExplorer 1.4.0  (landing page)Janina Reeder  OK  
1144/2083microbiomeMarker 1.0.2  (landing page)Yang Cao  OK  
1145/2083MicrobiomeProfiler 1.0.0  (landing page)Meijun Chen  OK  
1146/2083MicrobiotaProcess 1.6.6  (landing page)Shuangbin Xu  OK  
1147/2083microRNA 1.52.0  (landing page)"James F. Reid"  OK  
1148/2083midasHLA 1.2.0  (landing page)Maciej Migdał  OK  
1149/2083MIGSA 1.18.0  (landing page)Juan C. Rodriguez  ERROR  
1150/2083miloR 1.2.0  (landing page)Mike Morgan  ERROR  
1151/2083mimager 1.18.0  (landing page)Aaron Wolen  OK  
1152/2083MIMOSA 1.32.0  (landing page)Greg Finak  WARNINGS  
1153/2083mina 1.2.0  (landing page)Rui Guan  WARNINGS  
1154/2083MineICA 1.34.0  (landing page)Anne Biton  ERROR  
1155/2083minet 3.52.0  (landing page)Patrick E. Meyer  OK  
1156/2083minfi 1.40.0  (landing page)Kasper Daniel Hansen  OK  
1157/2083MinimumDistance 1.38.0  (landing page)Robert Scharpf  WARNINGS  
1158/2083MiPP 1.66.0  (landing page)Sukwoo Kim  OK  
1159/2083miQC 1.2.0  (landing page)Ariel Hippen  ERROR  
1160/2083MIRA 1.16.0  (landing page)John Lawson  OK  
1161/2083MiRaGE 1.36.0  (landing page)Y-h. Taguchi  WARNINGS  
1162/2083miRBaseConverter 1.18.0  (landing page)Taosheng Xu  OK  
1163/2083miRcomp 1.24.0  (landing page)Matthew N. McCall  WARNINGS  
1164/2083mirIntegrator 1.24.0  (landing page)Diana Diaz  OK  
1165/2083miRLAB 1.24.0  (landing page)Vu Viet Hoang Pham  OK  
1166/2083miRmine 1.16.0  (landing page)Dusan Randjelovic  OK  
1167/2083miRNAmeConverter 1.22.0  (landing page)Stefan J. Haunsberger  WARNINGS  
1168/2083miRNApath 1.54.0  (landing page)James M. Ward  OK  
1169/2083miRNAtap 1.28.0  (landing page)T. Ian Simpson  OK  
1170/2083miRSM 1.12.0  (landing page)Junpeng Zhang  OK  
1171/2083miRspongeR 1.20.1  (landing page)Junpeng Zhang  OK  
1172/2083mirTarRnaSeq 1.2.0  (landing page)Mercedeh Movassagh  OK  
1173/2083missMethyl 1.28.0  (landing page)Belinda Phipson  OK  
1174/2083missRows 1.14.0  (landing page)Gonzalez Ignacio  OK  
1175/2083mistyR 1.2.1  (landing page)Jovan Tanevski  OK  
1176/2083mitch 1.6.0  (landing page)Mark Ziemann  OK  
1177/2083mitoClone2 1.0.0  (landing page)Benjamin Story  WARNINGS  
1178/2083mixOmics 6.18.1  (landing page)Al J Abadi  OK  
1179/2083MLInterfaces 1.74.0  (landing page)V. Carey  OK  
1180/2083MLP 1.42.0  (landing page)Tobias Verbeke  OK  
1181/2083MLSeq 2.12.0  (landing page)Gokmen Zararsiz  OK  
1182/2083MMAPPR2 1.8.0  (landing page)Jonathon Hill  OK  
1183/2083MMDiff2 1.22.0  (landing page)Gabriele Schweikert  WARNINGS  
1184/2083MMUPHin 1.8.2  (landing page)Siyuan MA  ERROR  
1185/2083mnem 1.10.0  (landing page)Martin Pirkl  OK  
1186/2083moanin 1.2.0  (landing page)Nelle Varoquaux  OK  
1187/2083MODA 1.20.0  (landing page)Dong Li  OK  
1188/2083ModCon 1.2.0  (landing page)Johannes Ptok  OK  
1189/2083Modstrings 1.10.0  (landing page)Felix G.M. Ernst  OK  
1190/2083MOFA2 1.4.0  (landing page)Britta Velten  OK  
1191/2083MOGAMUN 1.4.0  (landing page)Elva-María Novoa-del-Toro  OK  
1192/2083mogsa 1.28.0  (landing page)Chen Meng  OK  
1193/2083MOMA 1.6.0  (landing page)Sunny Jones  OK  
1194/2083monaLisa 1.0.0  (landing page)Michael Stadler  OK  
1195/2083monocle 2.22.0  (landing page)Cole Trapnell  WARNINGS  
1196/2083MoonlightR 1.20.0  (landing page)Antonio Colaprico  OK  
1197/2083mosaics 2.32.0  (landing page)Dongjun Chung  OK  
1198/2083mosbi 1.0.3  (landing page)Tim Daniel Rose  OK  
1199/2083MOSim 1.8.0  (landing page)Carlos Martínez  OK  
1200/2083motifbreakR 2.8.0  (landing page)Simon Gert Coetzee  WARNINGS  
1201/2083motifcounter 1.18.0  (landing page)Wolfgang Kopp  OK  
1202/2083MotifDb 1.36.0  (landing page)Paul Shannon  WARNINGS  
1203/2083motifmatchr 1.16.0  (landing page)Alicia Schep  OK  
1204/2083motifStack 1.38.0  (landing page)Jianhong Ou  OK  
1205/2083MouseFM 1.4.2  (landing page)Matthias Munz  OK  
1206/2083MPFE 1.30.0  (landing page)Conrad Burden  OK  
1207/2083mpra 1.16.0  (landing page)Leslie Myint  OK  
1208/2083MPRAnalyze 1.12.0  (landing page)Tal Ashuach  OK  
1209/2083MQmetrics 1.2.0  (landing page)Alvaro Sanchez-Villalba  OK  
1210/2083msa 1.26.0  (landing page)Ulrich Bodenhofer  WARNINGS  
1211/2083MsBackendMassbank 1.2.0  (landing page)RforMassSpectrometry Package Maintainer  OK  
1212/2083MsBackendMgf 1.2.0  (landing page)RforMassSpectrometry Package Maintainer  OK  
1213/2083MsBackendRawFileReader 1.0.0  (landing page)Christian Panse  OK  
1214/2083MsCoreUtils 1.6.2  (landing page)RforMassSpectrometry Package Maintainer  OK  
1215/2083MsFeatures 1.2.0  (landing page)Johannes Rainer  OK  
1216/2083msgbsR 1.18.0  (landing page)Benjamin Mayne  WARNINGS  
1217/2083MSGFgui 1.28.0  (landing page)Thomas Lin Pedersen  ERROR  
1218/2083MSGFplus 1.28.0  (landing page)Thomas Lin Pedersen  ERROR  
1219/2083msImpute 1.4.0  (landing page)Soroor Hediyeh-zadeh  OK  
1220/2083msmsEDA 1.32.0  (landing page)Josep Gregori  OK  
1221/2083msmsTests 1.32.0  (landing page)Josep Gregori i Font  OK  
1222/2083MSnbase 2.20.4  (landing page)Laurent Gatto  ERROR  
1223/2083MSnID 1.28.0  (landing page)Vlad Petyuk  OK  
1224/2083MSPrep 1.4.0  (landing page)Max McGrath  OK  
1225/2083msPurity 1.20.0  (landing page)Thomas N. Lawson  ERROR  
1226/2083msqrob2 1.2.0  (landing page)Lieven Clement  ERROR  
1227/2083MSstats 4.2.0  (landing page)Meena Choi  ERROR  
1228/2083MSstatsConvert 1.4.1  (landing page)Mateusz Staniak  WARNINGS  
1229/2083MSstatsLiP 1.0.0  (landing page)Devon Kohler  OK  
1230/2083MSstatsLOBD 1.2.0  (landing page)Devon Kohler  OK  
1231/2083MSstatsPTM 1.4.2  (landing page)Devon Kohler  OK  
1232/2083MSstatsQC 2.12.0  (landing page)Eralp Dogu  OK  
1233/2083MSstatsQCgui 1.14.0  (landing page)Eralp Dogu  OK  
1234/2083MSstatsSampleSize 1.8.0  (landing page)Ting Huang  ERROR  
1235/2083MSstatsTMT 2.2.7  (landing page)Ting Huang  OK  
1236/2083MSstatsTMTPTM 1.4.0  (landing page)Devon Kohler  ERROR  
1237/2083Mulcom 1.44.0  (landing page)Claudio Isella  WARNINGS  
1238/2083MultiAssayExperiment 1.20.0  (landing page)Marcel Ramos  WARNINGS  
1239/2083MultiBaC 1.4.0  (landing page)Manuel Ugidos  WARNINGS  
1240/2083multiClust 1.24.0  (landing page)Nathan Lawlor  OK  
1241/2083multicrispr 1.4.3  (landing page)Aditya Bhagwat  OK  
1242/2083MultiDataSet 1.22.0  (landing page)Xavier Escribà Montagut  WARNINGS  
1243/2083multiGSEA 1.4.0  (landing page)Sebastian Canzler  OK  
1244/2083multiHiCcompare 1.12.0  (landing page)John Stansfield , Mikhail Dozmorov  OK  
1245/2083MultiMed 2.16.0  (landing page)Simina M. Boca  OK  
1246/2083multiMiR 1.16.0  (landing page)Matt Mulvahill  OK  
1247/2083multiOmicsViz 1.18.0  (landing page)Jing Wang  OK  
1248/2083multiscan 1.54.0  (landing page)Mizanur Khondoker  OK  
1249/2083multiSight 1.2.0  (landing page)Florian Jeanneret  OK  
1250/2083multtest 2.50.0  (landing page)Katherine S. Pollard  WARNINGS  
1251/2083mumosa 1.2.0  (landing page)Aaron Lun  OK  
1252/2083MungeSumstats 1.2.4  (landing page)Alan Murphy  OK  
1253/2083muscat 1.8.2  (landing page)Helena L. Crowell  OK  
1254/2083muscle 3.36.0  (landing page)Alex T. Kalinka  WARNINGS  
1255/2083musicatk 1.4.0  (landing page)Aaron Chevalier  OK  
1256/2083MutationalPatterns 3.4.1  (landing page)Mark van Roosmalen  OK  
1257/2083MVCClass 1.68.0  (landing page)Elizabeth Whalen  OK  
1258/2083MWASTools 1.18.0  (landing page)Andrea Rodriguez-Martinez , Rafael Ayala  OK  
1259/2083mygene 1.30.0  (landing page)Adam Mark, Cyrus Afrasiabi, Chunlei Wu  OK  
1260/2083myvariant 1.24.0  (landing page)Adam Mark, Chunlei Wu  OK  
1261/2083mzID 1.32.0  (landing page)Laurent Gatto  OK  
1262/2083mzR 2.28.0  (landing page)Steffen Neumann  WARNINGS  
N
ABCDEFGHIJKLMNOPQRSTUVWXYZ
PackageMaintainerINSTALL/BUILD/CHECK
1263/2083NADfinder 1.18.0  (landing page)Jianhong Ou  OK  
1264/2083NanoMethViz 2.0.0  (landing page)Shian Su  OK  
1265/2083NanoStringDiff 1.24.0  (landing page)tingting zhai ,hong wang  WARNINGS  
1266/2083NanoStringNCTools 1.2.0  (landing page)Nicole Ortogero  OK  
1267/2083NanoStringQCPro 1.26.0  (landing page)Robert Ziman  OK  
1268/2083nanotatoR 1.10.0  (landing page)Surajit Bhattacharya  OK  
1269/2083NanoTube 1.0.0  (landing page)Caleb Class  OK  
1270/2083NBAMSeq 1.10.0  (landing page)Xu Ren  OK  
1271/2083NBSplice 1.12.0  (landing page)Gabriela Merino  OK  
1272/2083ncdfFlow 2.40.0  (landing page)Mike Jiang , Jake Wagner  WARNINGS  
1273/2083ncGTW 1.8.0  (landing page)Chiung-Ting Wu  OK  
1274/2083NCIgraph 1.42.0  (landing page)Laurent Jacob  OK  
1275/2083ncRNAtools 1.4.0  (landing page)Lara Selles Vidal  OK  
1276/2083ndexr 1.16.0  (landing page)Florian Auer  OK  
1277/2083nearBynding 1.4.0  (landing page)Veronica Busa  OK  
1278/2083Nebulosa 1.4.0  (landing page)Jose Alquicira-Hernandez  OK  
1279/2083NeighborNet 1.12.0  (landing page)Sahar Ansari  OK  
1280/2083nempi 1.2.0  (landing page)Martin Pirkl  OK  
1281/2083netbiov 1.28.0  (landing page)Shailesh tripathi  WARNINGS  
1282/2083netboost 2.2.0  (landing page)Pascal Schlosser  OK  
1283/2083netboxr 1.6.0  (landing page)Eirc Minwei Liu  ERROR  
1284/2083netDx 1.6.0  (landing page)Shraddha Pai  TIMEOUT  
1285/2083nethet 1.26.0  (landing page)Nicolas Staedler  WARNINGS  
1286/2083netOmics 1.0.0  (landing page)Antoine Bodein  OK  
1287/2083NetPathMiner 1.30.0  (landing page)Ahmed Mohamed  WARNINGS  
1288/2083netprioR 1.20.0  (landing page)Fabian Schmich  OK  
1289/2083netresponse 1.54.0  (landing page)Leo Lahti  OK  
1290/2083NetSAM 1.34.0  (landing page)Zhiao Shi  ERROR  
1291/2083netSmooth 1.14.0  (landing page)Jonathan Ronen  OK  
1292/2083networkBMA 2.34.0  (landing page)Ka Yee Yeung  ERROR  
1293/2083NeuCA 1.0.0  (landing page)Hao Feng  ERROR  
1294/2083NewWave 1.4.0  (landing page)Federico Agostinis  OK  
1295/2083ngsReports 1.10.0  (landing page)Steve Pederson  OK  
1296/2083nnNorm 2.58.0  (landing page)Adi Laurentiu Tarca  OK  
1297/2083NOISeq 2.38.0  (landing page)Sonia Tarazona  OK  
1298/2083nondetects 2.24.0  (landing page)Valeriia Sherina  OK  
1299/2083NoRCE 1.6.0  (landing page)Gulden Olgun  OK  
1300/2083normalize450K 1.22.0  (landing page)Jonathan Alexander Heiss  OK  
1301/2083NormalyzerDE 1.12.0  (landing page)Jakob Willforss  OK  
1302/2083NormqPCR 1.40.0  (landing page)James Perkins  OK  
1303/2083normr 1.20.0  (landing page)Johannes Helmuth  WARNINGS  
1304/2083NPARC 1.6.0  (landing page)Nils Kurzawa  OK  
1305/2083npGSEA 1.30.0  (landing page)Jessica Larson  OK  
1306/2083NTW 1.44.0  (landing page)Yuanhua Liu  WARNINGS  
1307/2083nucleoSim 1.22.0  (landing page)Astrid Deschenes  OK  
1308/2083nucleR 2.26.0  (landing page)Alba Sala  WARNINGS  
1309/2083nuCpos 1.12.0  (landing page)Hiroaki Kato  WARNINGS  
1310/2083nullranges 1.0.1  (landing page)Michael Love  OK  
1311/2083NuPoP 2.2.0  (landing page)Ji-Ping Wang  OK  
1312/2083NxtIRFcore 1.0.0  (landing page)Alex Chit Hei Wong  OK  
O
ABCDEFGHIJKLMNOPQRSTUVWXYZ
PackageMaintainerINSTALL/BUILD/CHECK
1313/2083occugene 1.54.0  (landing page)Oliver Will  OK  
1314/2083OCplus 1.68.0  (landing page)Alexander Ploner  OK  
1315/2083ODER 1.0.0  (landing page)David Zhang  ERROR  
1316/2083odseq 1.22.0  (landing page)José Jiménez  OK  
1317/2083oligo 1.58.0  (landing page)Benilton Carvalho  WARNINGS  
1318/2083oligoClasses 1.56.0  (landing page)Benilton Carvalho and Robert Scharpf  WARNINGS  
1319/2083OLIN 1.72.0  (landing page)Matthias Futschik  OK  
1320/2083OLINgui 1.68.0  (landing page)Matthias Futschik  OK  
1321/2083OmaDB 2.10.0  (landing page)Klara Kaleb , Adrian Altenhoff  OK  
1322/2083omicade4 1.34.0  (landing page)Chen Meng  OK  
1323/2083OmicCircos 1.32.0  (landing page)Ying Hu  WARNINGS  
1324/2083omicplotR 1.14.0  (landing page)Daniel Giguere  OK  
1325/2083omicRexposome 1.16.0  (landing page)Xavier Escribà Montagut  OK  
1326/2083OmicsLonDA 1.10.0  (landing page)Ahmed A. Metwally  OK  
1327/2083OMICsPCA 1.12.0  (landing page)Subhadeep Das  OK  
1328/2083omicsPrint 1.14.0  (landing page)Davy Cats  WARNINGS  
1329/2083Omixer 1.4.0  (landing page)Lucy Sinke  OK  
1330/2083OmnipathR 3.2.9  (landing page)Denes Turei  ERROR  
1331/2083Onassis 1.16.0  (landing page)Eugenia Galeota  ERROR  
1332/2083oncomix 1.16.0  (landing page)Daniel Pique  OK  
1333/2083OncoScore 1.22.0  (landing page)Luca De Sano  OK  
1334/2083OncoSimulR 3.2.0  (landing page)Ramon Diaz-Uriarte  OK  
1335/2083oneSENSE 1.16.0  (landing page)Yong Kee Tan  ERROR  
1336/2083onlineFDR 2.2.0  (landing page)David S. Robertson  OK  
1337/2083ontoProc 1.16.0  (landing page)VJ Carey  OK  
1338/2083openCyto 2.6.0  (landing page)Mike Jiang ,Jake Wagner  OK  
1339/2083openPrimeR 1.16.0  (landing page)Matthias Döring  OK  
1340/2083openPrimeRui 1.16.0  (landing page)Matthias Döring  OK  
1341/2083OpenStats 1.6.0  (landing page)Hamed Haseli Mashhadi  OK  
1342/2083oposSOM 2.12.0  (landing page)Henry Loeffler-Wirth  WARNINGS  
1343/2083oppar 1.22.0  (landing page)Soroor Hediyeh zadeh  WARNINGS  
1344/2083oppti 1.8.0  (landing page)Abdulkadir Elmas  WARNINGS  
1345/2083optimalFlow 1.6.0  (landing page)Hristo Inouzhe  OK  
1346/2083OPWeight 1.16.0  (landing page)Mohamad Hasan  OK  
1347/2083OrderedList 1.66.0  (landing page)Claudio Lottaz  OK  
1348/2083ORFhunteR 1.2.0  (landing page)Vasily V. Grinev  OK  
1349/2083ORFik 1.14.7  (landing page)Haakon Tjeldnes  OK  
1350/2083Organism.dplyr 1.22.1  (landing page)Martin Morgan  OK  
1351/2083OrganismDbi 1.36.0  (landing page)Bioconductor Package Maintainer  ERROR  
1352/2083orthogene 1.0.2  (landing page)Brian Schilder  OK  
1353/2083OSAT 1.42.0  (landing page)Li Yan  OK  
1354/2083Oscope 1.24.0  (landing page)Ning Leng  OK  
1355/2083OTUbase 1.44.0  (landing page)Daniel Beck  OK  
1356/2083OUTRIDER 1.12.0  (landing page)Christian Mertes  OK  
1357/2083OVESEG 1.10.0  (landing page)Lulu Chen  OK  
P
ABCDEFGHIJKLMNOPQRSTUVWXYZ
PackageMaintainerINSTALL/BUILD/CHECK
1358/2083PAA 1.28.0  (landing page)Michael Turewicz , Martin Eisenacher  OK  
1359/2083packFinder 1.6.0  (landing page)Jack Gisby  OK  
1360/2083padma 1.4.0  (landing page)Andrea Rau  OK  
1361/2083PADOG 1.36.0  (landing page)Adi L. Tarca  OK  
1362/2083pageRank 1.4.0  (landing page)Hongxu Ding  OK  
1363/2083PAIRADISE 1.10.0  (landing page)Qiang Hu , Levon Demirdjian  OK  
1364/2083paircompviz 1.32.0  (landing page)Michal Burda  OK  
1365/2083pairkat 1.0.0  (landing page)Cameron Severn  OK  
1366/2083pandaR 1.26.0  (landing page)Joseph N. Paulson , Dan Schlauch  WARNINGS  
1367/2083panelcn.mops 1.16.0  (landing page)Gundula Povysil  OK  
1368/2083panp 1.64.0  (landing page)Peter Warren  OK  
1369/2083PANR 1.40.0  (landing page)Xin Wang  OK  
1370/2083PanVizGenerator 1.22.0  (landing page)Thomas Lin Pedersen  ERROR  
1371/2083parglms 1.26.0  (landing page)VJ Carey  OK  
1372/2083parody 1.52.0  (landing page)Vince Carey  OK  
1373/2083PAST 1.10.0  (landing page)Thrash Adam  WARNINGS  
1374/2083Path2PPI 1.24.0  (landing page)Oliver Philipp  OK  
1375/2083pathifier 1.32.0  (landing page)Assif Yitzhaky  OK  
1376/2083PathNet 1.34.0  (landing page)Ludwig Geistlinger  OK  
1377/2083PathoStat 1.20.0  (landing page)Solaiappan Manimaran  OK  
1378/2083pathRender 1.62.0  (landing page)Vince Carey  OK  
1379/2083pathVar 1.24.0  (landing page)Samuel Zimmerman  OK  
1380/2083pathview 1.34.0  (landing page)Weijun Luo  WARNINGS  
1381/2083pathwayPCA 1.10.0  (landing page)Gabriel Odom  OK  
1382/2083paxtoolsr 1.28.0  (landing page)Augustin Luna  ERROR  
1383/2083pcaExplorer 2.20.2  (landing page)Federico Marini  OK  
1384/2083pcaMethods 1.86.0  (landing page)Henning Redestig  OK  
1385/2083PCAN 1.22.0  (landing page)Matthew Page and Patrice Godard  OK  
1386/2083PCAtools 2.6.0  (landing page)Kevin Blighe  OK  
1387/2083pcxn 2.16.0  (landing page)Sokratis Kariotis  OK  
1388/2083PDATK 1.2.0  (landing page)Benjamin Haibe-Kains  OK  
1389/2083pdInfoBuilder 1.58.0  (landing page)Benilton Carvalho  OK  
1390/2083PeacoQC 1.4.0  (landing page)Annelies Emmaneel  OK  
1391/2083peakPantheR 1.8.0  (landing page)Arnaud Wolfer  OK  
1392/2083PECA 1.30.0  (landing page)Tomi Suomi  OK  
1393/2083peco 1.6.0  (landing page)Chiaowen Joyce Hsiao  OK  
1394/2083pengls 1.0.0  (landing page)Stijn Hawinkel  OK  
1395/2083PepsNMR 1.12.0  (landing page)Manon Martin  OK  
1396/2083pepStat 1.28.0  (landing page)Gregory C Imholte  OK  
1397/2083pepXMLTab 1.28.0  (landing page)Xiaojing Wang  OK  
1398/2083PERFect 1.8.0  (landing page)Quy Cao  OK  
1399/2083periodicDNA 1.4.0  (landing page)Jacques Serizay  OK  
1400/2083perturbatr 1.14.0  (landing page)Simon Dirmeier  ERROR  
1401/2083PFP 1.2.0  (landing page)XC Zhang  OK  
1402/2083pgca 1.18.0  (landing page)Gabriela Cohen-Freue  OK  
1403/2083phantasus 1.14.0  (landing page)Alexey Sergushichev  OK  
1404/2083PharmacoGx 2.6.0  (landing page)Benjamin Haibe-Kains  OK  
1405/2083phemd 1.10.0  (landing page)William S Chen  OK  
1406/2083PhenoGeneRanker 1.2.0  (landing page)Cagatay Dursun  OK  
1407/2083phenopath 1.18.0  (landing page)Kieran Campbell  OK  
1408/2083phenoTest 1.42.0  (landing page)Evarist Planet  WARNINGS  
1409/2083PhenStat 2.30.0  (landing page)Hamed Haselimashhadi  OK  
1410/2083philr 1.20.1  (landing page)Justin Silverman  WARNINGS  
1411/2083PhIPData 1.2.0  (landing page)Athena Chen  OK  
1412/2083phosphonormalizer 1.18.0  (landing page)Sohrab Saraei  OK  
1413/2083PhosR 1.4.0  (landing page)Taiyun Kim  OK  
1414/2083PhyloProfile 1.8.6  (landing page)Vinh Tran  OK  
1415/2083phyloseq 1.38.0  (landing page)Paul J. McMurdie  OK  
1416/2083Pi 2.6.0  (landing page)Hai Fang  WARNINGS  
1417/2083piano 2.10.1  (landing page)Leif Varemo Wigge  WARNINGS  
1418/2083pickgene 1.66.0  (landing page)Brian S. Yandell  WARNINGS  
1419/2083PICS 2.38.0  (landing page)Renan Sauteraud  OK  
1420/2083Pigengene 1.20.0  (landing page)Habil Zare  OK  
1421/2083PING 2.38.0  (landing page)Renan Sauteraud  WARNINGS  
1422/2083pipeComp 1.4.0  (landing page)Pierre-Luc Germain  OK  
1423/2083pipeFrame 1.10.0  (landing page)Zheng Wei  OK  
1424/2083pkgDepTools 1.60.0  (landing page)Bioconductor Package Maintainer  TIMEOUT  
1425/2083planet 1.2.0  (landing page)Victor Yuan  OK  
1426/2083plethy 1.32.0  (landing page)Daniel Bottomly  OK  
1427/2083plgem 1.66.0  (landing page)Norman Pavelka  OK  
1428/2083plier 1.64.0  (landing page)Crispin Miller  WARNINGS  
1429/2083PloGO2 1.6.0  (landing page)Jemma Wu , Dana Pascovici  OK  
1430/2083plotgardener 1.0.17  (landing page)Nicole Kramer  OK  
1431/2083plotGrouper 1.12.0  (landing page)John D. Gagnon  OK  
1432/2083PLPE 1.54.0  (landing page)Soo-heang Eo  OK  
1433/2083plyranges 1.14.0  (landing page)Stuart Lee  OK  
1434/2083pmm 1.26.0  (landing page)Anna Drewek  OK  
1435/2083pmp 1.6.0  (landing page)Gavin Rhys Lloyd  OK  
1436/2083PoDCall 1.2.0  (landing page)Hans Petter Brodal  OK  
1437/2083podkat 1.26.0  (landing page)Ulrich Bodenhofer  OK  
1438/2083pogos 1.14.1  (landing page)VJ Carey  ERROR  
1439/2083polyester 1.30.0  (landing page)Jack Fu , Jeff Leek  OK  
1440/2083POMA 1.4.0  (landing page)Pol Castellano-Escuder  OK  
1441/2083PoTRA 1.10.0  (landing page)Margaret Linan  OK  
1442/2083powerTCR 1.14.0  (landing page)Hillary Koch  WARNINGS  
1443/2083POWSC 1.2.0  (landing page)Kenong Su  OK  
1444/2083ppcseq 1.2.0  (landing page)Stefano Mangiola  OK  
1445/2083PPInfer 1.20.4  (landing page)Dongmin Jung  OK  
1446/2083ppiStats 1.60.0  (landing page)Bioconductor Package Maintainer  ERROR  
1447/2083pqsfinder 2.10.1  (landing page)Jiri Hon  OK  
1448/2083pram 1.10.0  (landing page)Peng Liu  OK  
1449/2083prebs 1.34.0  (landing page)Karolis Uziela  OK  
1450/2083preciseTAD 1.4.0  (landing page)Mikhail Dozmorov  OK  
1451/2083PrecisionTrialDrawer 1.10.0  (landing page)Giorgio Melloni  OK  
1452/2083PREDA 1.40.0  (landing page)Francesco Ferrari  WARNINGS  
1453/2083predictionet 1.40.0  (landing page)Benjamin Haibe-Kains  WARNINGS  
1454/2083preprocessCore 1.56.0  (landing page)Ben Bolstad  OK  
1455/2083primirTSS 1.12.0  (landing page)Pumin Li  WARNINGS  
1456/2083PrInCE 1.10.0  (landing page)Michael Skinnider  WARNINGS  
1457/2083proActiv 1.4.0  (landing page)Joseph Lee  OK  
1458/2083proBAMr 1.28.0  (landing page)Xiaojing Wang  OK  
1459/2083proBatch 1.10.0  (landing page)Chloe H. Lee  OK  
1460/2083PROcess 1.70.0  (landing page)Xiaochun Li  OK  
1461/2083procoil 2.22.0  (landing page)Ulrich Bodenhofer  OK  
1462/2083proDA 1.8.0  (landing page)Constantin Ahlmann-Eltze  OK  
1463/2083proFIA 1.20.0  (landing page)Alexis Delabriere  WARNINGS  
1464/2083profileplyr 1.10.2  (landing page)Tom Carroll , Doug Barrows  OK  
1465/2083profileScoreDist 1.22.0  (landing page)Paal O. Westermark  OK  
1466/2083progeny 1.16.0  (landing page)Aurélien Dugourd  OK  
1467/2083projectR 1.10.0  (landing page)Genevieve Stein-O'Brien  OK  
1468/2083pRoloc 1.34.0  (landing page)Laurent Gatto  OK  
1469/2083pRolocGUI 2.4.0  (landing page)Laurent Gatto  WARNINGS  
1470/2083PROMISE 1.46.0  (landing page)Stan Pounds , Xueyuan Cao  OK  
1471/2083PROPER 1.26.0  (landing page)Hao Wu  WARNINGS  
1472/2083PROPS 1.16.0  (landing page)Lichy Han  OK  
1473/2083Prostar 1.26.4  (landing page)Samuel Wieczorek  OK  
1474/2083proteinProfiles 1.34.0  (landing page)Julian Gehring  OK  
1475/2083ProteoDisco 1.0.0  (landing page)Job van Riet  OK  
1476/2083ProteomicsAnnotationHubData 1.24.0  (landing page)Laurent Gatto  ERROR  
1477/2083ProteoMM 1.12.0  (landing page)Yuliya V Karpievitch  OK  
1478/2083ProtGenerics 1.26.0  (landing page)Laurent Gatto  OK  
1479/2083PSEA 1.28.0  (landing page)Alexandre Kuhn  OK  
1480/2083psichomics 1.20.2  (landing page)Nuno Saraiva-Agostinho  OK  
1481/2083PSICQUIC 1.32.0  (landing page)Paul Shannon  ERROR  
1482/2083psygenet2r 1.26.0  (landing page)Alba Gutierrez-Sacristan  OK  
1483/2083ptairMS 1.2.0  (landing page)camille Roquencourt  OK  
1484/2083PubScore 1.6.0  (landing page)Tiago Lubiana  OK  
1485/2083pulsedSilac 1.8.0  (landing page)Marc Pagès-Gallego  OK  
1486/2083puma 3.36.0  (landing page)Xuejun Liu  WARNINGS  
1487/2083PureCN 2.0.2  (landing page)Markus Riester  OK  
1488/2083pvac 1.42.0  (landing page)Jun Lu , Pierre R. Bushel  OK  
1489/2083pvca 1.34.0  (landing page)Jianying LI  OK  
1490/2083Pviz 1.28.0  (landing page)Renan Sauteraud  OK  
1491/2083PWMEnrich 4.30.0  (landing page)Diego Diez  OK  
1492/2083pwOmics 1.26.0  (landing page)Maren Sitte  WARNINGS  
1493/2083pwrEWAS 1.8.0  (landing page)Stefan Graw  OK  
Q
ABCDEFGHIJKLMNOPQRSTUVWXYZ
PackageMaintainerINSTALL/BUILD/CHECK
1494/2083qckitfastq 1.10.0  (landing page)August Guang  OK  
1495/2083qcmetrics 1.32.0  (landing page)Laurent Gatto  OK  
1496/2083QDNAseq 1.30.0  (landing page)Daoud Sie  OK  
1497/2083QFeatures 1.4.0  (landing page)Laurent Gatto  OK  
1498/2083qpcrNorm 1.52.0  (landing page)Jessica Mar  OK  
1499/2083qpgraph 2.28.2  (landing page)Robert Castelo  WARNINGS  
1500/2083qPLEXanalyzer 1.12.1  (landing page)Ashley Sawle  OK  
1501/2083qrqc 1.48.0  (landing page)Vince Buffalo  WARNINGS  
1502/2083qsea 1.20.0  (landing page)Matthias Lienhard  OK  
1503/2083qsmooth 1.10.0  (landing page)Stephanie C. Hicks  WARNINGS  
1504/2083QSutils 1.12.0  (landing page)Mercedes Guerrero-Murillo  OK  
1505/2083Qtlizer 1.8.1  (landing page)Matthias Munz  OK  
1506/2083quantiseqr 1.2.0  (landing page)Federico Marini  OK  
1507/2083quantro 1.28.0  (landing page)Stephanie Hicks  OK  
1508/2083quantsmooth 1.60.0  (landing page)Jan Oosting  OK  
1509/2083QuartPAC 1.26.0  (landing page)Gregory Ryslik  OK  
1510/2083QuasR 1.34.0  (landing page)Michael Stadler  OK  
1511/2083QuaternaryProd 1.28.0  (landing page)Carl Tony Fakhry  OK  
1512/2083QUBIC 1.22.0  (landing page)Yu Zhang  OK  
1513/2083qusage 2.28.0  (landing page)Christopher Bolen  OK  
1514/2083qvalue 2.26.0  (landing page)John D. Storey , Andrew J. Bass  OK  
R
ABCDEFGHIJKLMNOPQRSTUVWXYZ
PackageMaintainerINSTALL/BUILD/CHECK
1515/2083R3CPET 1.26.0  (landing page)Mohamed Nadhir Djekidel  OK  
1516/2083r3Cseq 1.40.0  (landing page)Supat Thongjuea or  OK  
1517/2083R453Plus1Toolbox 1.44.0  (landing page)Hans-Ulrich Klein  OK  
1518/2083R4RNA 1.22.0  (landing page)Daniel Lai  OK  
1519/2083RadioGx 1.4.0  (landing page)Benjamin Haibe-Kains  OK  
1520/2083RaggedExperiment 1.18.0  (landing page)Martin Morgan  OK  
1521/2083rain 1.28.0  (landing page)Paul F. Thaben  OK  
1522/2083rama 1.68.0  (landing page)Raphael Gottardo  WARNINGS  
1523/2083ramr 1.2.0  (landing page)Oleksii Nikolaienko  OK  
1524/2083ramwas 1.18.0  (landing page)Andrey A Shabalin  OK  
1525/2083RandomWalkRestartMH 1.14.0  (landing page)Alberto Valdeolivas  WARNINGS  
1526/2083randPack 1.40.0  (landing page)Robert Gentleman  OK  
1527/2083randRotation 1.6.0  (landing page)Peter Hettegger  OK  
1528/2083RankProd 3.20.0  (landing page)Francesco Del Carratore  OK  
1529/2083RareVariantVis 2.22.0  (landing page)Tomasz Stokowy  OK  
1530/2083rawrr 1.2.0  (landing page)Christian Panse  OK  
1531/2083RbcBook1 1.62.0  (landing page)Vince Carey  OK  
1532/2083Rbec 1.2.0  (landing page)Pengfan Zhang  OK  
1533/2083RBGL 1.70.0  (landing page)Bioconductor Package Maintainer  WARNINGS  
1534/2083RBioinf 1.54.0  (landing page)Robert Gentleman  OK  
1535/2083rBiopaxParser 2.34.0  (landing page)Frank Kramer  OK  
1536/2083RBM 1.26.0  (landing page)Dongmei Li  OK  
1537/2083Rbowtie 1.34.0  (landing page)Michael Stadler  OK  
1538/2083Rbowtie2 2.0.0  (landing page)Zheng Wei  OK  
1539/2083rbsurv 2.52.0  (landing page)Soo-heang Eo  OK  
1540/2083Rcade 1.36.0  (landing page)Jonathan Cairns  ERROR  
1541/2083RCAS 1.20.0  (landing page)Bora Uyar  OK  
1542/2083RCASPAR 1.40.0  (landing page)Douaa Mugahid , Lars Kaderali  OK  
1543/2083rcellminer 2.16.0  (landing page)Augustin Luna , Vinodh Rajapakse  OK  
1544/2083rCGH 1.24.0  (landing page)Frederic Commo  OK  
1545/2083RcisTarget 1.14.0  (landing page)Sara Aibar  ERROR  
1546/2083RCM 1.10.0  (landing page)Joris Meys  OK  
1547/2083Rcpi 1.30.0  (landing page)Nan Xiao  OK  
1548/2083RCSL 1.2.0  (landing page)Qinglin Mei  OK  
1549/2083Rcwl 1.10.0  (landing page)Qiang Hu  OK  
1550/2083RcwlPipelines 1.10.0  (landing page)Qiang Hu  OK  
1551/2083RCy3 2.14.2  (landing page)Alex Pico  OK  
1552/2083RCyjs 2.16.0  (landing page)Paul Shannon  WARNINGS  
1553/2083rDGIdb 1.20.0  (landing page)Lars Bosshard  ERROR  
1554/2083Rdisop 1.54.0  (landing page)Steffen Neumann  WARNINGS  
1555/2083RDRToolbox 1.44.0  (landing page)Christoph Bartenhagen  OK  
1556/2083ReactomeContentService4R 1.2.0  (landing page)Chi-Lam Poon  OK  
1557/2083ReactomeGraph4R 1.2.0  (landing page)Chi-Lam Poon  OK  
1558/2083ReactomeGSA 1.8.0  (landing page)Johannes Griss  OK  
1559/2083ReactomePA 1.38.0  (landing page)Guangchuang Yu  OK  
1560/2083ReadqPCR 1.40.0  (landing page)James Perkins  OK  
1561/2083REBET 1.12.0  (landing page)Bill Wheeler  OK  
1562/2083rebook 1.4.0  (landing page)Aaron Lun  WARNINGS  
1563/2083receptLoss 1.6.0  (landing page)Daniel Pique  OK  
1564/2083reconsi 1.6.0  (landing page)Joris Meys  OK  
1565/2083recount 1.20.0  (landing page)Leonardo Collado-Torres  OK  
1566/2083recount3 1.4.0  (landing page)Leonardo Collado-Torres  OK  
1567/2083recountmethylation 1.4.5  (landing page)Sean K Maden  WARNINGS  
1568/2083recoup 1.22.0  (landing page)Panagiotis Moulos  OK  
1569/2083RedeR 1.42.0  (landing page)Mauro Castro  OK  
1570/2083REDseq 1.40.0  (landing page)Lihua Julie Zhu  OK  
1571/2083RefPlus 1.64.0  (landing page)Kai-Ming Chang  OK  
1572/2083RegEnrich 1.4.0  (landing page)Weiyang Tao  OK  
1573/2083regioneR 1.26.1  (landing page)Bernat Gel  OK  
1574/2083regionReport 1.28.1  (landing page)Leonardo Collado-Torres  OK  
1575/2083regsplice 1.20.0  (landing page)Lukas M. Weber  OK  
1576/2083regutools 1.6.0  (landing page)Joselyn Chavez  OK  
1577/2083REMP 1.18.0  (landing page)Yinan Zheng  OK  
1578/2083Repitools 1.40.0  (landing page)Mark Robinson  OK  
1579/2083ReportingTools 2.34.0  (landing page)Jason A. Hackney , Gabriel Becker  OK  
1580/2083RepViz 1.10.0  (landing page)Thomas Faux, Asta Laiho   WARNINGS  
1581/2083ReQON 1.40.0  (landing page)Christopher Cabanski  OK  
1582/2083ResidualMatrix 1.4.0  (landing page)Aaron Lun  OK  
1583/2083restfulSE 1.16.0  (landing page)Shweta Gopaulakrishnan  OK  
1584/2083rexposome 1.16.0  (landing page)Xavier Escribà Montagut  WARNINGS  
1585/2083rfaRm 1.6.0  (landing page)Lara Selles Vidal  OK  
1586/2083Rfastp 1.4.0  (landing page)Thomas Carroll  OK  
1587/2083rfPred 1.32.0  (landing page)Hugo Varet  ERROR  
1588/2083rGADEM 2.42.0  (landing page)Arnaud Droit  ERROR  
1589/2083RGalaxy 1.38.0  (landing page)Bioconductor Package Maintainer  WARNINGS  
1590/2083rGenomeTracks 1.0.0  (landing page)Omar Elashkar  OK  
1591/2083Rgin 1.14.0  (landing page)Hector Climente-Gonzalez  ERROR  
1592/2083RGMQL 1.14.1  (landing page)Simone Pallotta  WARNINGS  
1593/2083RGraph2js 1.22.0  (landing page)Stephane Cano  OK  
1594/2083Rgraphviz 2.38.0  (landing page)Kasper Daniel Hansen  WARNINGS  
1595/2083rGREAT 1.26.0  (landing page)Zuguang Gu  OK  
1596/2083RGSEA 1.28.0  (landing page)Chengcheng Ma  OK  
1597/2083rgsepd 1.26.0  (landing page)Karl Stamm  OK  
1598/2083rhdf5 2.38.1  (landing page)Mike Smith  OK  
1599/2083rhdf5client 1.16.0  (landing page)Vincent Carey  OK  
1600/2083rhdf5filters 1.6.0  (landing page)Mike Smith  OK  
1601/2083Rhdf5lib 1.16.0  (landing page)Mike Smith  OK  
1602/2083Rhisat2 1.10.0  (landing page)Charlotte Soneson  WARNINGS  
1603/2083Rhtslib 1.26.0  (landing page)Bioconductor Package Maintainer  WARNINGS  
1604/2083RiboCrypt 1.0.0  (landing page)Michal Swirski  OK  
1605/2083RiboDiPA 1.2.0  (landing page)Ji-Ping Wang  OK  
1606/2083RiboProfiling 1.24.0  (landing page)A. Popa  WARNINGS  
1607/2083ribor 1.6.0  (landing page)Michael Geng  OK  
1608/2083riboSeqR 1.28.0  (landing page)Thomas J. Hardcastle  OK  
1609/2083ribosomeProfilingQC 1.6.1  (landing page)Jianhong Ou  OK  
1610/2083RImmPort 1.22.0  (landing page)Zicheng Hu , Ravi Shankar  OK  
1611/2083Ringo 1.58.0  (landing page)J. Toedling  OK  
1612/2083RIPAT 1.4.0  (landing page)Min-Jeong Baek  OK  
1613/2083Risa 1.36.0  (landing page)Alejandra Gonzalez-Beltran  OK  
1614/2083RITAN 1.18.0  (landing page)Michael Zimmermann  ERROR  
1615/2083RIVER 1.18.0  (landing page)Yungil Kim  OK  
1616/2083RJMCMCNucleosomes 1.18.0  (landing page)Astrid Deschênes  OK  
1617/2083RLassoCox 1.2.0  (landing page)Wei Liu  OK  
1618/2083RLMM 1.56.0  (landing page)Nusrat Rabbee  OK  
1619/2083RLSeq 1.0.0  (landing page)Henry Miller  ERROR  
1620/2083Rmagpie 1.50.0  (landing page)Camille Maumet  OK  
1621/2083RMassBank 3.4.0  (landing page)RMassBank at Eawag  WARNINGS  
1622/2083rmelting 1.10.0  (landing page)J. Aravind  OK  
1623/2083RmiR 1.50.0  (landing page)Francesco Favero  ERROR  
1624/2083Rmmquant 1.12.0  (landing page)Zytnicki Matthias  OK  
1625/2083rmspc 1.0.0  (landing page)Meriem Bahda  OK  
1626/2083RNAAgeCalc 1.6.0  (landing page)Xu Ren  OK  
1627/2083RNAdecay 1.14.0  (landing page)Reed Sorenson  ERROR  
1628/2083rnaEditr 1.4.0  (landing page)Lanyu Zhang  OK  
1629/2083RNAinteract 1.42.0  (landing page)Mike Smith  OK  
1630/2083RNAmodR 1.8.0  (landing page)Felix G.M. Ernst  OK  
1631/2083RNAmodR.AlkAnilineSeq 1.8.0  (landing page)Felix G.M. Ernst  OK  
1632/2083RNAmodR.ML 1.8.0  (landing page)Felix G.M. Ernst  OK  
1633/2083RNAmodR.RiboMethSeq 1.8.0  (landing page)Felix G.M. Ernst  OK  
1634/2083RNAsense 1.8.0  (landing page)Marcus Rosenblatt  WARNINGS  
1635/2083rnaseqcomp 1.24.0  (landing page)Mingxiang Teng  OK  
1636/2083RNASeqPower 1.34.0  (landing page)Terry M Therneau  OK  
1637/2083RNASeqR 1.12.0  (landing page)Kuan-Hao Chao  OK  
1638/2083RnaSeqSampleSize 2.4.1  (landing page)Shilin Zhao Developer  ERROR  
1639/2083RnBeads 2.12.2  (landing page)Fabian Mueller  OK  
1640/2083Rnits 1.28.0  (landing page)Dipen P. Sangurdekar  WARNINGS  
1641/2083roar 1.30.0  (landing page)Elena Grassi  OK  
1642/2083ROC 1.70.0  (landing page)Vince Carey  OK  
1643/2083ROCpAI 1.6.0  (landing page)Juan-Pedro Garcia  OK  
1644/2083rols 2.22.1  (landing page)Laurent Gatto  OK  
1645/2083ROntoTools 2.22.0  (landing page)Calin Voichita  OK  
1646/2083ropls 1.26.4  (landing page)Etienne A. Thevenot  OK  
1647/2083ROSeq 1.6.0  (landing page)Krishan Gupta  WARNINGS  
1648/2083ROTS 1.22.0  (landing page)Tomi Suomi  OK  
1649/2083RPA 1.50.0  (landing page)Leo Lahti  OK  
1650/2083RProtoBufLib 2.6.0  (landing page)Mike Jiang  WARNINGS  
1651/2083RpsiXML 2.36.0  (landing page)Jitao David Zhang  OK  
1652/2083rpx 2.2.2  (landing page)Laurent Gatto  ERROR  
1653/2083Rqc 1.28.0  (landing page)Welliton Souza  TIMEOUT  
1654/2083rqt 1.20.0  (landing page)Ilya Y. Zhbannikov  OK  
1655/2083rqubic 1.40.0  (landing page)Jitao David Zhang  WARNINGS  
1656/2083rRDP 1.28.0  (landing page)Michael Hahsler  OK  
1657/2083RRHO 1.34.0  (landing page)Jonathan Rosenblatt  OK  
1658/2083rrvgo 1.6.0  (landing page)Sergi Sayols  OK  
1659/2083Rsamtools 2.10.0  (landing page)Bioconductor Package Maintainer  WARNINGS  
1660/2083rsbml 2.52.0  (landing page)Michael Lawrence  WARNINGS  
1661/2083rScudo 1.10.0  (landing page)Matteo Ciciani  OK  
1662/2083rsemmed 1.4.0  (landing page)Leslie Myint  OK  
1663/2083RSeqAn 1.14.0  (landing page)August Guang  OK  
1664/2083Rsubread 2.8.2  (landing page)Wei Shi , Yang Liao and Gordon K Smyth  OK  
1665/2083RSVSim 1.34.0  (landing page)Christoph Bartenhagen  OK  
1666/2083rSWeeP 1.6.0  (landing page)Danrley R. Fernandes  OK  
1667/2083RTCA 1.46.0  (landing page)Jitao David Zhang  WARNINGS  
1668/2083RTCGA 1.24.0  (landing page)Marcin Kosinski  OK  
1669/2083RTCGAToolbox 2.24.0  (landing page)Marcel Ramos  OK  
1670/2083RTN 2.18.0  (landing page)Mauro Castro  OK  
1671/2083RTNduals 1.18.0  (landing page)Mauro Castro , Clarice Groeneveld  OK  
1672/2083RTNsurvival 1.18.0  (landing page)Clarice Groeneveld , Mauro A. A. Castro  OK  
1673/2083RTopper 1.40.1  (landing page)Luigi Marchionni  OK  
1674/2083Rtpca 1.4.0  (landing page)Nils Kurzawa  OK  
1675/2083rtracklayer 1.54.0  (landing page)Michael Lawrence  WARNINGS  
1676/2083Rtreemix 1.56.0  (landing page)Jasmina Bogojeska  OK  
1677/2083rTRM 1.32.0  (landing page)Diego Diez  OK  
1678/2083rTRMui 1.32.0  (landing page)Diego Diez  OK  
1679/2083runibic 1.16.0  (landing page)Patryk Orzechowski  OK  
1680/2083RUVcorr 1.26.0  (landing page)Saskia Freytag  WARNINGS  
1681/2083RUVnormalize 1.28.0  (landing page)Laurent Jacob  OK  
1682/2083RUVSeq 1.28.0  (landing page)Davide Risso  OK  
1683/2083RVS 1.16.0  (landing page)Thomas Sherman  OK  
1684/2083rWikiPathways 1.14.0  (landing page)Egon Willighagen  OK  
S
ABCDEFGHIJKLMNOPQRSTUVWXYZ
PackageMaintainerINSTALL/BUILD/CHECK
1685/2083S4Vectors 0.32.4  (landing page)Bioconductor Package Maintainer  WARNINGS  
1686/2083safe 3.34.0  (landing page)Ludwig Geistlinger  OK  
1687/2083sagenhaft 1.64.0  (landing page)Tim Beissbarth  WARNINGS  
1688/2083SAIGEgds 1.8.1  (landing page)Xiuwen Zheng  OK  
1689/2083sampleClassifier 1.18.0  (landing page)Khadija El Amrani  OK  
1690/2083SamSPECTRAL 1.48.0  (landing page)Habil  WARNINGS  
1691/2083sangeranalyseR 1.4.0  (landing page)Kuan-Hao Chao  WARNINGS  
1692/2083sangerseqR 1.30.1  (landing page)Jonathon Hill  OK  
1693/2083SANTA 2.30.0  (landing page)Alex Cornish  OK  
1694/2083sarks 1.6.0  (landing page)Dennis Wylie  OK  
1695/2083satuRn 1.2.0  (landing page)Jeroen Gilis  OK  
1696/2083savR 1.32.0  (landing page)R. Brent Calder  OK  
1697/2083SBGNview 1.8.0  (landing page)Weijun Luo  OK  
1698/2083SBMLR 1.90.0  (landing page)Tomas Radivoyevitch  ERROR  
1699/2083SC3 1.22.0  (landing page)Vladimir Kiselev  OK  
1700/2083Scale4C 1.16.0  (landing page)Carolin Walter  OK  
1701/2083ScaledMatrix 1.2.0  (landing page)Aaron Lun  OK  
1702/2083scAlign 1.8.0  (landing page)Nelson Johansen  ERROR  
1703/2083SCAN.UPC 2.36.0  (landing page)Stephen R. Piccolo  OK  
1704/2083scanMiR 1.0.0  (landing page)Fridolin Gross  OK  
1705/2083scanMiRApp 1.0.0  (landing page)Pierre-Luc Germain  OK  
1706/2083scAnnotatR 1.0.0  (landing page)Johannes Griss  OK  
1707/2083SCANVIS 1.8.0  (landing page)Phaedra Agius  ERROR  
1708/2083SCArray 1.2.1  (landing page)Xiuwen Zheng  OK  
1709/2083SCATE 1.4.0  (landing page)Wenpin Hou  OK  
1710/2083scater 1.22.0  (landing page)Alan O'Callaghan  OK  
1711/2083scatterHatch 1.0.0  (landing page)Atul Deshpande  OK  
1712/2083scBFA 1.8.0  (landing page)Ruoxin Li  OK  
1713/2083SCBN 1.12.0  (landing page)Yan Zhou  OK  
1714/2083scCB2 1.4.0  (landing page)Zijian Ni  OK  
1715/2083scClassifR 1.2.0  (landing page)Johannes Griss  WARNINGS  
1716/2083scClassify 1.6.0  (landing page)Yingxin Lin  OK  
1717/2083scDataviz 1.4.0  (landing page)Kevin Blighe  OK  
1718/2083scDblFinder 1.8.0  (landing page)Pierre-Luc Germain  OK  
1719/2083scDD 1.18.0  (landing page)Keegan Korthauer  OK  
1720/2083scde 2.22.0  (landing page)Jean Fan  WARNINGS  
1721/2083scds 1.10.0  (landing page)Dennis Kostka  OK  
1722/2083SCFA 1.4.0  (landing page)Duc Tran  OK  
1723/2083scFeatureFilter 1.14.0  (landing page)Guillaume Devailly  OK  
1724/2083scGPS 1.8.0  (landing page)Quan Nguyen  OK  
1725/2083schex 1.8.0  (landing page)Saskia Freytag  OK  
1726/2083scHOT 1.6.0  (landing page)Shila Ghazanfar  OK  
1727/2083ScISI 1.66.0  (landing page)Tony Chiang  ERROR  
1728/2083scMAGeCK 1.6.0  (landing page)Xiaolong Cheng  WARNINGS  
1729/2083scmap 1.16.0  (landing page)Vladimir Kiselev  OK  
1730/2083scMerge 1.10.0  (landing page)Yingxin Lin  OK  
1731/2083scmeth 1.14.0  (landing page)Divy Kangeyan  OK  
1732/2083SCnorm 1.16.0  (landing page)Rhonda Bacher  OK  
1733/2083scone 1.18.0  (landing page)Davide Risso  OK  
1734/2083Sconify 1.14.0  (landing page)Tyler J Burns  OK  
1735/2083SCOPE 1.6.0  (landing page)Rujin Wang  OK  
1736/2083scoreInvHap 1.16.0  (landing page)Dolors Pelegri-Siso  OK  
1737/2083scp 1.4.0  (landing page)Christophe Vanderaa  OK  
1738/2083scPCA 1.8.0  (landing page)Philippe Boileau  OK  
1739/2083scPipe 1.16.1  (landing page)Luyi Tian  OK  
1740/2083scran 1.22.1  (landing page)Aaron Lun  WARNINGS  
1741/2083scReClassify 1.0.0  (landing page)Taiyun Kim  OK  
1742/2083scRecover 1.10.0  (landing page)Zhun Miao  OK  
1743/2083scRepertoire 1.4.0  (landing page)Nick Borcherding  OK  
1744/2083scruff 1.12.1  (landing page)Zhe Wang  OK  
1745/2083scry 1.6.0  (landing page)Kelly Street  OK  
1746/2083scShapes 1.0.0  (landing page)Malindrie Dharmaratne  OK  
1747/2083scTensor 2.4.1  (landing page)Koki Tsuyuzaki  OK  
1748/2083scTGIF 1.8.0  (landing page)Koki Tsuyuzaki  OK  
1749/2083scTHI 1.6.0  (landing page)Michele Ceccarelli  OK  
1750/2083scTreeViz 1.0.0  (landing page)Jayaram Kancherla  OK  
1751/2083scuttle 1.4.0  (landing page)Aaron Lun  WARNINGS  
1752/2083SDAMS 1.14.0  (landing page)Yuntong Li  OK  
1753/2083sechm 1.2.0  (landing page)Pierre-Luc Germain  OK  
1754/2083segmenter 1.0.0  (landing page)Mahmoud Ahmed  OK  
1755/2083segmentSeq 2.28.0  (landing page)Thomas J. Hardcastle  OK  
1756/2083selectKSigs 1.6.0  (landing page)Zhi Yang  OK  
1757/2083SELEX 1.26.0  (landing page)Harmen J. Bussemaker  OK  
1758/2083SemDist 1.28.0  (landing page)Ian Gonzalez  OK  
1759/2083semisup 1.18.0  (landing page)Armin Rauschenberger  OK  
1760/2083SEPIRA 1.14.0  (landing page)Yuting Chen  OK  
1761/2083seq2pathway 1.26.0  (landing page)Arjun Kinstlick  WARNINGS  
1762/2083SeqArray 1.34.0  (landing page)Xiuwen Zheng  OK  
1763/2083seqbias 1.42.0  (landing page)Daniel Jones  ERROR  
1764/2083seqCAT 1.16.1  (landing page)Erik Fasterius  OK  
1765/2083seqCNA 1.40.0  (landing page)David Mosen-Ansorena  OK  
1766/2083seqcombo 1.16.1  (landing page)Guangchuang Yu  OK  
1767/2083SeqGate 1.4.0  (landing page)Stéphanie Rialle  OK  
1768/2083SeqGSEA 1.34.0  (landing page)Xi Wang  ERROR  
1769/2083seqLogo 1.60.0  (landing page)Robert Ivanek  OK  
1770/2083seqPattern 1.26.0  (landing page)Vanja Haberle  OK  
1771/2083seqsetvis 1.14.4  (landing page)Joseph R Boyd  WARNINGS  
1772/2083SeqSQC 1.16.0  (landing page)Qian Liu  OK  
1773/2083seqTools 1.28.0  (landing page)Wolfgang Kaisers  WARNINGS  
1774/2083SeqVarTools 1.32.0  (landing page)Stephanie M. Gogarten  OK  
1775/2083sesame 1.12.9  (landing page)Wanding Zhou  OK  
1776/2083SEtools 1.8.0  (landing page)Pierre-Luc Germain  WARNINGS  
1777/2083sevenbridges 1.24.0  (landing page)Soner Koc  OK  
1778/2083sevenC 1.14.0  (landing page)Jonas Ibn-Salem  OK  
1779/2083SGSeq 1.28.0  (landing page)Leonard Goldstein  OK  
1780/2083SharedObject 1.8.0  (landing page)Jiefei Wang  OK  
1781/2083shinyepico 1.2.0  (landing page)Octavio Morante-Palacios  OK  
1782/2083shinyMethyl 1.30.0  (landing page)Jean-Philippe Fortin  OK  
1783/2083ShortRead 1.52.0  (landing page)Bioconductor Package Maintainer  WARNINGS  
1784/2083SIAMCAT 1.14.0  (landing page)Jakob Wirbel  OK  
1785/2083SICtools 1.24.0  (landing page)Xiaobin Xing  WARNINGS  
1786/2083SigCheck 2.26.0  (landing page)Rory Stark  OK  
1787/2083sigFeature 1.12.0  (landing page)Pijush Das Developer  OK  
1788/2083SigFuge 1.32.0  (landing page)Patrick Kimes  OK  
1789/2083siggenes 1.68.0  (landing page)Holger Schwender  OK  
1790/2083sights 1.20.0  (landing page)Elika Garg  OK  
1791/2083signatureSearch 1.8.2  (landing page)Yuzhu Duan  OK  
1792/2083signeR 1.20.0  (landing page)Renan Valieris  OK  
1793/2083sigPathway 1.62.0  (landing page)Weil Lai  OK  
1794/2083SigsPack 1.8.0  (landing page)Franziska Schumann  OK  
1795/2083sigsquared 1.26.0  (landing page)UnJin Lee  OK  
1796/2083SIM 1.64.0  (landing page)Renee X. de Menezes  OK  
1797/2083SIMAT 1.26.0  (landing page)M. R. Nezami Ranjbar  OK  
1798/2083SimBindProfiles 1.32.0  (landing page)Bettina Fischer  OK  
1799/2083SIMD 1.12.0  (landing page)Jiadi Zhu  OK  
1800/2083SimFFPE 1.6.0  (landing page)Lanying Wei  OK  
1801/2083similaRpeak 1.26.0  (landing page)Astrid Deschenes  OK  
1802/2083SIMLR 1.20.0  (landing page)Luca De Sano  OK  
1803/2083simplifyEnrichment 1.4.0  (landing page)Zuguang Gu  OK  
1804/2083sincell 1.26.0  (landing page)Miguel Julia , Antonio Rausell  ERROR  
1805/2083SingleCellExperiment 1.16.0  (landing page)Davide Risso  OK  
1806/2083SingleCellSignalR 1.6.0  (landing page)Jacques Colinge  WARNINGS  
1807/2083singleCellTK 2.4.0  (landing page)Yichen Wang  ERROR  
1808/2083SingleMoleculeFootprinting 1.2.0  (landing page)Guido Barzaghi  OK  
1809/2083SingleR 1.8.1  (landing page)Aaron Lun  OK  
1810/2083singscore 1.14.0  (landing page)Dharmesh D. Bhuva  OK  
1811/2083SISPA 1.24.0  (landing page)Bhakti Dwivedi  OK  
1812/2083sitadela 1.2.0  (landing page)Panagiotis Moulos  OK  
1813/2083sitePath 1.10.2  (landing page)Chengyang Ji  OK  
1814/2083sizepower 1.64.0  (landing page)Weiliang Qiu  OK  
1815/2083skewr 1.26.0  (landing page)Ryan Putney  OK  
1816/2083slalom 1.16.0  (landing page)Davis McCarthy  OK  
1817/2083SLGI 1.54.0  (landing page)Nolwenn Le Meur  OK  
1818/2083slingshot 2.2.1  (landing page)Kelly Street  OK  
1819/2083slinky 1.12.0  (landing page)Eric Kort  ERROR  
1820/2083SLqPCR 1.60.0  (landing page)Matthias Kohl  OK  
1821/2083SMAD 1.10.0  (landing page)Qingzhou Zhang  OK  
1822/2083SMAP 1.58.0  (landing page)Robin Andersson  OK  
1823/2083SMITE 1.22.0  (landing page)Neil Ari Wijetunga  OK  
1824/2083SNAGEE 1.34.0  (landing page)David Venet  OK  
1825/2083snapCGH 1.64.0  (landing page)John Marioni  OK  
1826/2083snapcount 1.6.0  (landing page)Rone Charles  OK  
1827/2083snifter 1.4.0  (landing page)Alan O'Callaghan  OK  
1828/2083snm 1.42.0  (landing page)John D. Storey  OK  
1829/2083SNPediaR 1.20.0  (landing page)David Montaner  ERROR  
1830/2083SNPhood 1.24.0  (landing page)Christian Arnold  OK  
1831/2083SNPRelate 1.28.0  (landing page)Xiuwen Zheng  OK  
1832/2083snpStats 1.44.0  (landing page)David Clayton  WARNINGS