Name | Last modified | Size | Description | |
---|---|---|---|---|
Parent Directory | - | |||
install-out.txt | 14-Apr-2022 01:05 | 6.2K | ||
checksrc-out.txt | 14-Apr-2022 01:05 | 3.9K | ||
buildsrc-out.txt | 14-Apr-2022 01:05 | 963 | ||
checksrc-summary.dcf | 14-Apr-2022 01:05 | 440 | ||
buildsrc-summary.dcf | 14-Apr-2022 01:05 | 430 | ||
install-summary.dcf | 14-Apr-2022 01:05 | 267 | ||