Name | Last modified | Size | Description | |
---|---|---|---|---|
Parent Directory | - | |||
install-summary.dcf | 14-Apr-2022 01:06 | 686 | ||
install-out.txt | 14-Apr-2022 01:06 | 10K | ||
buildsrc-out.txt | 14-Apr-2022 01:06 | 1.0K | ||
buildsrc-summary.dcf | 14-Apr-2022 01:06 | 478 | ||
checksrc-out.txt | 14-Apr-2022 01:06 | 7.4K | ||
checksrc-summary.dcf | 14-Apr-2022 01:06 | 488 | ||
buildbin-out.txt | 14-Apr-2022 01:06 | 8.9K | ||
buildbin-summary.dcf | 14-Apr-2022 01:06 | 569 | ||