Name | Last modified | Size | Description | |
---|---|---|---|---|
Parent Directory | - | |||
buildbin-out.txt | 14-Apr-2022 01:06 | 2.6K | ||
buildbin-summary.dcf | 14-Apr-2022 01:06 | 531 | ||
buildsrc-out.txt | 14-Apr-2022 01:06 | 937 | ||
buildsrc-summary.dcf | 14-Apr-2022 01:06 | 454 | ||
checksrc-out.txt | 14-Apr-2022 01:06 | 3.4K | ||
checksrc-summary.dcf | 14-Apr-2022 01:06 | 458 | ||
install-out.txt | 14-Apr-2022 01:06 | 3.4K | ||
install-summary.dcf | 14-Apr-2022 01:06 | 632 | ||