Name | Last modified | Size | Description | |
---|---|---|---|---|
Parent Directory | - | |||
buildsrc-summary.dcf | 14-Apr-2022 01:06 | 470 | ||
checksrc-summary.dcf | 14-Apr-2022 01:06 | 476 | ||
buildbin-summary.dcf | 14-Apr-2022 01:06 | 559 | ||
install-summary.dcf | 14-Apr-2022 01:06 | 670 | ||
buildsrc-out.txt | 14-Apr-2022 01:06 | 896 | ||
checksrc-out.txt | 14-Apr-2022 01:06 | 4.7K | ||
buildbin-out.txt | 14-Apr-2022 01:06 | 4.8K | ||
install-out.txt | 14-Apr-2022 01:06 | 5.5K | ||