Name | Last modified | Size | Description | |
---|---|---|---|---|
Parent Directory | - | |||
install-summary.dcf | 14-Apr-2022 01:08 | 276 | ||
buildsrc-summary.dcf | 14-Apr-2022 01:08 | 437 | ||
checksrc-summary.dcf | 14-Apr-2022 01:08 | 458 | ||
buildbin-summary.dcf | 14-Apr-2022 01:08 | 551 | ||
buildsrc-out.txt | 14-Apr-2022 01:08 | 861 | ||
install-out.txt | 14-Apr-2022 01:08 | 2.9K | ||
checksrc-out.txt | 14-Apr-2022 01:08 | 3.4K | ||
buildbin-out.txt | 14-Apr-2022 01:08 | 3.8K | ||