Name | Last modified | Size | Description | |
---|---|---|---|---|
Parent Directory | - | |||
buildbin-out.txt | 14-Apr-2022 01:06 | 3.5K | ||
buildbin-summary.dcf | 14-Apr-2022 01:06 | 533 | ||
buildsrc-out.txt | 14-Apr-2022 01:06 | 932 | ||
buildsrc-summary.dcf | 14-Apr-2022 01:06 | 454 | ||
checksrc-out.txt | 14-Apr-2022 01:06 | 4.8K | ||
checksrc-summary.dcf | 14-Apr-2022 01:06 | 458 | ||
install-out.txt | 14-Apr-2022 01:06 | 4.2K | ||
install-summary.dcf | 14-Apr-2022 01:06 | 631 | ||