Name | Last modified | Size | Description | |
---|---|---|---|---|
Parent Directory | - | |||
install-summary.dcf | 14-Apr-2022 01:08 | 266 | ||
install-out.txt | 14-Apr-2022 01:08 | 628K | ||
checksrc-summary.dcf | 14-Apr-2022 01:08 | 442 | ||
checksrc-out.txt | 14-Apr-2022 01:08 | 15K | ||
buildsrc-summary.dcf | 14-Apr-2022 01:08 | 422 | ||
buildsrc-out.txt | 14-Apr-2022 01:08 | 838 | ||
buildbin-summary.dcf | 14-Apr-2022 01:08 | 518 | ||
buildbin-out.txt | 14-Apr-2022 01:08 | 617K | ||