Name | Last modified | Size | Description | |
---|---|---|---|---|
Parent Directory | - | |||
buildbin-out.txt | 22-Mar-2022 01:45 | 3.1K | ||
buildbin-summary.dcf | 22-Mar-2022 01:45 | 569 | ||
buildsrc-out.txt | 14-Apr-2022 01:06 | 11K | ||
buildsrc-summary.dcf | 14-Apr-2022 01:06 | 390 | ||
checksrc-out.txt | 22-Mar-2022 01:45 | 4.0K | ||
checksrc-summary.dcf | 22-Mar-2022 01:45 | 482 | ||
install-out.txt | 14-Apr-2022 01:06 | 3.8K | ||
install-summary.dcf | 14-Apr-2022 01:06 | 685 | ||