Name | Last modified | Size | Description | |
---|---|---|---|---|
Parent Directory | - | |||
buildsrc-out.txt | 14-Apr-2022 01:05 | 20K | ||
buildsrc-summary.dcf | 14-Apr-2022 01:05 | 344 | ||
checksrc-out.txt | 22-Mar-2022 01:43 | 3.3K | ||
checksrc-summary.dcf | 22-Mar-2022 01:43 | 444 | ||
install-out.txt | 14-Apr-2022 01:05 | 970 | ||
install-summary.dcf | 14-Apr-2022 01:05 | 269 | ||