Name | Last modified | Size | Description | |
---|---|---|---|---|
Parent Directory | - | |||
buildbin-out.txt | 14-Apr-2022 01:06 | 1.5K | ||
buildbin-summary.dcf | 14-Apr-2022 01:06 | 521 | ||
buildsrc-out.txt | 14-Apr-2022 01:06 | 830 | ||
buildsrc-summary.dcf | 14-Apr-2022 01:06 | 446 | ||
checksrc-out.txt | 14-Apr-2022 01:06 | 5.2K | ||
checksrc-summary.dcf | 14-Apr-2022 01:06 | 450 | ||
install-out.txt | 14-Apr-2022 01:06 | 2.1K | ||
install-summary.dcf | 14-Apr-2022 01:06 | 613 | ||