Name | Last modified | Size | Description | |
---|---|---|---|---|
Parent Directory | - | |||
buildbin-out.txt | 14-Apr-2022 01:08 | 1.6K | ||
buildbin-summary.dcf | 14-Apr-2022 01:08 | 542 | ||
buildsrc-out.txt | 14-Apr-2022 01:08 | 824 | ||
buildsrc-summary.dcf | 14-Apr-2022 01:08 | 433 | ||
checksrc-out.txt | 14-Apr-2022 01:08 | 3.3K | ||
checksrc-summary.dcf | 14-Apr-2022 01:08 | 457 | ||
install-out.txt | 14-Apr-2022 01:08 | 1.4K | ||
install-summary.dcf | 14-Apr-2022 01:08 | 273 | ||