Name | Last modified | Size | Description | |
---|---|---|---|---|
Parent Directory | - | |||
buildbin-out.txt | 14-Apr-2022 01:06 | 2.5K | ||
buildbin-summary.dcf | 14-Apr-2022 01:06 | 551 | ||
buildsrc-out.txt | 14-Apr-2022 01:06 | 915 | ||
buildsrc-summary.dcf | 14-Apr-2022 01:06 | 464 | ||
checksrc-out.txt | 14-Apr-2022 01:06 | 6.7K | ||
checksrc-summary.dcf | 14-Apr-2022 01:06 | 475 | ||
install-out.txt | 14-Apr-2022 01:06 | 3.3K | ||
install-summary.dcf | 14-Apr-2022 01:06 | 658 | ||