Name | Last modified | Size | Description | |
---|---|---|---|---|
Parent Directory | - | |||
buildsrc-out.txt | 14-Apr-2022 01:05 | 877 | ||
buildsrc-summary.dcf | 14-Apr-2022 01:05 | 423 | ||
checksrc-out.txt | 14-Apr-2022 01:05 | 6.0K | ||
checksrc-summary.dcf | 14-Apr-2022 01:05 | 437 | ||
install-out.txt | 14-Apr-2022 01:05 | 961 | ||
install-summary.dcf | 14-Apr-2022 01:05 | 262 | ||