Name | Last modified | Size | Description | |
---|---|---|---|---|
Parent Directory | - | |||
buildbin-out.txt | 14-Apr-2022 01:06 | 7.6K | ||
buildbin-summary.dcf | 14-Apr-2022 01:06 | 539 | ||
buildsrc-out.txt | 14-Apr-2022 01:06 | 937 | ||
buildsrc-summary.dcf | 14-Apr-2022 01:06 | 457 | ||
checksrc-out.txt | 14-Apr-2022 01:06 | 5.5K | ||
checksrc-summary.dcf | 14-Apr-2022 01:06 | 468 | ||
install-out.txt | 14-Apr-2022 01:06 | 8.3K | ||
install-summary.dcf | 14-Apr-2022 01:06 | 640 | ||