Name | Last modified | Size | Description | |
---|---|---|---|---|
Parent Directory | - | |||
buildbin-out.txt | 14-Apr-2022 01:06 | 2.5K | ||
buildbin-summary.dcf | 14-Apr-2022 01:06 | 557 | ||
buildsrc-out.txt | 14-Apr-2022 01:06 | 860 | ||
buildsrc-summary.dcf | 14-Apr-2022 01:06 | 471 | ||
checksrc-out.txt | 14-Apr-2022 01:06 | 3.7K | ||
checksrc-summary.dcf | 14-Apr-2022 01:06 | 474 | ||
install-out.txt | 14-Apr-2022 01:06 | 3.1K | ||
install-summary.dcf | 14-Apr-2022 01:06 | 667 | ||