Index of /checkResults/3.14/bioc-LATEST/dualKS/raw-results/tokay2
Name
Last modified
Size
Description
Parent Directory
-
buildsrc-out.txt
14-Apr-2022 01:06
2.6K
buildsrc-summary.dcf
14-Apr-2022 01:06
371
install-out.txt
14-Apr-2022 01:06
3.0K
install-summary.dcf
14-Apr-2022 01:06
631