Index of /checkResults/3.14/bioc-LATEST/dualKS/raw-results/nebbiolo2
Name
Last modified
Size
Description
Parent Directory
-
buildsrc-out.txt
14-Apr-2022 01:05
2.5K
buildsrc-summary.dcf
14-Apr-2022 01:05
330
install-out.txt
14-Apr-2022 01:05
1.1K
install-summary.dcf
14-Apr-2022 01:05
256