Index of /checkResults/3.14/bioc-LATEST/dualKS/raw-results/machv2
Name
Last modified
Size
Description
Parent Directory
-
buildsrc-out.txt
14-Apr-2022 01:07
2.5K
buildsrc-summary.dcf
14-Apr-2022 01:07
341
install-out.txt
14-Apr-2022 01:07
1.1K
install-summary.dcf
14-Apr-2022 01:07
266