Name | Last modified | Size | Description | |
---|---|---|---|---|
Parent Directory | - | |||
buildsrc-summary.dcf | 14-Apr-2022 01:06 | 459 | ||
checksrc-summary.dcf | 14-Apr-2022 01:06 | 462 | ||
buildbin-summary.dcf | 14-Apr-2022 01:06 | 540 | ||
install-summary.dcf | 14-Apr-2022 01:06 | 641 | ||
buildsrc-out.txt | 14-Apr-2022 01:06 | 937 | ||
buildbin-out.txt | 14-Apr-2022 01:06 | 6.1K | ||
install-out.txt | 14-Apr-2022 01:06 | 6.8K | ||
checksrc-out.txt | 14-Apr-2022 01:06 | 10K | ||