Name | Last modified | Size | Description | |
---|---|---|---|---|
Parent Directory | - | |||
install-summary.dcf | 14-Apr-2022 01:05 | 259 | ||
install-out.txt | 14-Apr-2022 01:05 | 2.2K | ||
checksrc-summary.dcf | 14-Apr-2022 01:05 | 424 | ||
checksrc-out.txt | 14-Apr-2022 01:05 | 9.1K | ||
buildsrc-summary.dcf | 14-Apr-2022 01:05 | 417 | ||
buildsrc-out.txt | 14-Apr-2022 01:05 | 899 | ||