Name | Last modified | Size | Description | |
---|---|---|---|---|
Parent Directory | - | |||
buildbin-out.txt | 14-Apr-2022 01:06 | 1.9K | ||
buildbin-summary.dcf | 14-Apr-2022 01:06 | 521 | ||
buildsrc-out.txt | 14-Apr-2022 01:06 | 890 | ||
buildsrc-summary.dcf | 14-Apr-2022 01:06 | 447 | ||
checksrc-out.txt | 14-Apr-2022 01:06 | 4.5K | ||
checksrc-summary.dcf | 14-Apr-2022 01:06 | 450 | ||
install-out.txt | 14-Apr-2022 01:06 | 2.7K | ||
install-summary.dcf | 14-Apr-2022 01:06 | 613 | ||