Name | Last modified | Size | Description | |
---|---|---|---|---|
Parent Directory | - | |||
buildbin-out.txt | 14-Apr-2022 01:07 | 3.4K | ||
buildbin-summary.dcf | 14-Apr-2022 01:07 | 508 | ||
buildsrc-out.txt | 14-Apr-2022 01:07 | 896 | ||
buildsrc-summary.dcf | 14-Apr-2022 01:07 | 416 | ||
checksrc-out.txt | 14-Apr-2022 01:07 | 3.8K | ||
checksrc-summary.dcf | 14-Apr-2022 01:07 | 430 | ||
install-out.txt | 14-Apr-2022 01:07 | 2.6K | ||
install-summary.dcf | 14-Apr-2022 01:07 | 262 | ||