Name | Last modified | Size | Description | |
---|---|---|---|---|
Parent Directory | - | |||
install-summary.dcf | 14-Apr-2022 01:06 | 640 | ||
install-out.txt | 14-Apr-2022 01:06 | 2.8K | ||
checksrc-summary.dcf | 14-Apr-2022 01:06 | 466 | ||
checksrc-out.txt | 14-Apr-2022 01:06 | 5.0K | ||
buildsrc-summary.dcf | 14-Apr-2022 01:06 | 458 | ||
buildsrc-out.txt | 14-Apr-2022 01:06 | 845 | ||
buildbin-summary.dcf | 14-Apr-2022 01:06 | 539 | ||
buildbin-out.txt | 14-Apr-2022 01:06 | 2.1K | ||