Name | Last modified | Size | Description | |
---|---|---|---|---|
Parent Directory | - | |||
buildbin-out.txt | 14-Apr-2022 01:06 | 7.1K | ||
buildbin-summary.dcf | 14-Apr-2022 01:06 | 545 | ||
buildsrc-out.txt | 14-Apr-2022 01:06 | 942 | ||
buildsrc-summary.dcf | 14-Apr-2022 01:06 | 462 | ||
checksrc-out.txt | 14-Apr-2022 01:06 | 11K | ||
checksrc-summary.dcf | 14-Apr-2022 01:06 | 466 | ||
install-out.txt | 14-Apr-2022 01:06 | 7.9K | ||
install-summary.dcf | 14-Apr-2022 01:06 | 649 | ||