Name | Last modified | Size | Description | |
---|---|---|---|---|
Parent Directory | - | |||
buildbin-out.txt | 14-Apr-2022 01:06 | 5.7K | ||
buildbin-summary.dcf | 14-Apr-2022 01:06 | 547 | ||
buildsrc-out.txt | 14-Apr-2022 01:06 | 854 | ||
buildsrc-summary.dcf | 14-Apr-2022 01:06 | 464 | ||
checksrc-out.txt | 14-Apr-2022 01:06 | 4.1K | ||
checksrc-summary.dcf | 14-Apr-2022 01:06 | 468 | ||
install-out.txt | 14-Apr-2022 01:06 | 6.5K | ||
install-summary.dcf | 14-Apr-2022 01:06 | 653 | ||