Name | Last modified | Size | Description | |
---|---|---|---|---|
Parent Directory | - | |||
buildsrc-out.txt | 14-Apr-2022 01:05 | 900 | ||
buildsrc-summary.dcf | 14-Apr-2022 01:05 | 439 | ||
checksrc-out.txt | 14-Apr-2022 01:05 | 3.3K | ||
checksrc-summary.dcf | 14-Apr-2022 01:05 | 454 | ||
install-out.txt | 14-Apr-2022 01:05 | 1.0K | ||
install-summary.dcf | 14-Apr-2022 01:05 | 274 | ||