Name | Last modified | Size | Description | |
---|---|---|---|---|
Parent Directory | - | |||
buildbin-out.txt | 14-Apr-2022 01:07 | 1.2K | ||
buildbin-summary.dcf | 14-Apr-2022 01:07 | 575 | ||
buildsrc-out.txt | 14-Apr-2022 01:07 | 910 | ||
buildsrc-summary.dcf | 14-Apr-2022 01:07 | 450 | ||
checksrc-out.txt | 14-Apr-2022 01:07 | 3.9K | ||
checksrc-summary.dcf | 14-Apr-2022 01:07 | 475 | ||
install-out.txt | 14-Apr-2022 01:07 | 1.0K | ||
install-summary.dcf | 14-Apr-2022 01:07 | 284 | ||