Name | Last modified | Size | Description | |
---|---|---|---|---|
Parent Directory | - | |||
buildbin-out.txt | 14-Apr-2022 01:06 | 1.6K | ||
buildbin-summary.dcf | 14-Apr-2022 01:06 | 534 | ||
buildsrc-out.txt | 14-Apr-2022 01:06 | 900 | ||
buildsrc-summary.dcf | 14-Apr-2022 01:06 | 455 | ||
checksrc-out.txt | 14-Apr-2022 01:06 | 7.1K | ||
checksrc-summary.dcf | 14-Apr-2022 01:06 | 464 | ||
install-out.txt | 14-Apr-2022 01:06 | 3.0K | ||
install-summary.dcf | 14-Apr-2022 01:06 | 632 | ||