Name | Last modified | Size | Description | |
---|---|---|---|---|
Parent Directory | - | |||
buildsrc-out.txt | 14-Apr-2022 01:05 | 865 | ||
buildsrc-summary.dcf | 14-Apr-2022 01:05 | 414 | ||
checksrc-out.txt | 14-Apr-2022 01:05 | 6.7K | ||
checksrc-summary.dcf | 14-Apr-2022 01:05 | 426 | ||
install-out.txt | 14-Apr-2022 01:05 | 952 | ||
install-summary.dcf | 14-Apr-2022 01:05 | 257 | ||