Name | Last modified | Size | Description | |
---|---|---|---|---|
Parent Directory | - | |||
buildsrc-summary.dcf | 14-Apr-2022 01:06 | 457 | ||
checksrc-summary.dcf | 14-Apr-2022 01:06 | 460 | ||
buildbin-summary.dcf | 14-Apr-2022 01:06 | 537 | ||
install-summary.dcf | 14-Apr-2022 01:06 | 638 | ||
buildsrc-out.txt | 14-Apr-2022 01:06 | 841 | ||
checksrc-out.txt | 14-Apr-2022 01:06 | 3.6K | ||
buildbin-out.txt | 14-Apr-2022 01:06 | 5.3K | ||
install-out.txt | 14-Apr-2022 01:06 | 6.5K | ||