Name | Last modified | Size | Description | |
---|---|---|---|---|
Parent Directory | - | |||
buildbin-out.txt | 14-Apr-2022 01:06 | 5.6K | ||
buildbin-summary.dcf | 14-Apr-2022 01:06 | 527 | ||
buildsrc-out.txt | 14-Apr-2022 01:06 | 878 | ||
buildsrc-summary.dcf | 14-Apr-2022 01:06 | 451 | ||
checksrc-out.txt | 14-Apr-2022 01:06 | 5.4K | ||
checksrc-summary.dcf | 14-Apr-2022 01:06 | 455 | ||
install-out.txt | 14-Apr-2022 01:06 | 6.5K | ||
install-summary.dcf | 14-Apr-2022 01:06 | 623 | ||