Name | Last modified | Size | Description | |
---|---|---|---|---|
Parent Directory | - | |||
buildsrc-summary.dcf | 14-Apr-2022 01:06 | 449 | ||
checksrc-summary.dcf | 14-Apr-2022 01:06 | 452 | ||
buildbin-summary.dcf | 14-Apr-2022 01:06 | 525 | ||
install-summary.dcf | 14-Apr-2022 01:06 | 617 | ||
buildsrc-out.txt | 14-Apr-2022 01:06 | 866 | ||
checksrc-out.txt | 14-Apr-2022 01:06 | 5.2K | ||
buildbin-out.txt | 14-Apr-2022 01:06 | 12K | ||
install-out.txt | 14-Apr-2022 01:06 | 13K | ||